BEGIN:VCALENDAR
VERSION:2.0
PRODID:-//Bewegen &amp; Beleben - ECPv6.15.20//NONSGML v1.0//EN
CALSCALE:GREGORIAN
METHOD:PUBLISH
X-ORIGINAL-URL:https://indian-balance.at
X-WR-CALDESC:Veranstaltungen für Bewegen &amp; Beleben
REFRESH-INTERVAL;VALUE=DURATION:PT1H
X-Robots-Tag:noindex
X-PUBLISHED-TTL:PT1H
BEGIN:VTIMEZONE
TZID:Europe/Vienna
BEGIN:DAYLIGHT
TZOFFSETFROM:+0100
TZOFFSETTO:+0200
TZNAME:CEST
DTSTART:20250330T010000
END:DAYLIGHT
BEGIN:STANDARD
TZOFFSETFROM:+0200
TZOFFSETTO:+0100
TZNAME:CET
DTSTART:20251026T010000
END:STANDARD
BEGIN:DAYLIGHT
TZOFFSETFROM:+0100
TZOFFSETTO:+0200
TZNAME:CEST
DTSTART:20260329T010000
END:DAYLIGHT
BEGIN:STANDARD
TZOFFSETFROM:+0200
TZOFFSETTO:+0100
TZNAME:CET
DTSTART:20261025T010000
END:STANDARD
BEGIN:DAYLIGHT
TZOFFSETFROM:+0100
TZOFFSETTO:+0200
TZNAME:CEST
DTSTART:20270328T010000
END:DAYLIGHT
BEGIN:STANDARD
TZOFFSETFROM:+0200
TZOFFSETTO:+0100
TZNAME:CET
DTSTART:20271031T010000
END:STANDARD
END:VTIMEZONE
BEGIN:VEVENT
DTSTART;VALUE=DATE:20260531
DTEND;VALUE=DATE:20260607
DTSTAMP:20260422T111223
CREATED:20241108T081341Z
LAST-MODIFIED:20260211T215638Z
UID:10006433-1780185600-1780790399@indian-balance.at
SUMMARY:Heil- und Basenfasten & INDIAN BALANCE im 5*Hotel Pulverer\, Kärnten
DESCRIPTION:Heil- und Basenfasten in den Nockbergen & Indian Balance mit Rücken- und Faszien FIT erleben \nKörper\, Geist und Seele in Einklang bringen im 5*Thermenhotel Pulverer  Bad Kleinkirchheim \nDein Wohlfühlprogramm \n\n7 Tage Heil- oder Basenfasten inkl. basischer Fastenverpflegung und Autophagie\nGanztägige Teebar und hauseigenes Heilwasser inkludiert\nEine Nock-Vital Teilmassage 25 Min inklusive\nBewegt in den Morgen (Indian Balance\, gehen\, schwimmen)\nNEU: AQUA Indian Balance\nIndian Balance erleben – den Körper bewegen\, während die Seele ausruht\nImpulsvorträge zum Thema Fasten\, Ernährung\, Darm-fit und Essen danach\ntäglich Moor-Leberwickel genießen und entspannen\ntäglich begleitete Bewegungseinheiten und die heilende Kraft der Nockberge\nspüren und inhalieren\nAchtsames erleben – innehalten und bewusst wahrnehmen\nBesuch des Ursprungs der Heilquelle\nhoteleigene Thermenwelt – sämtliche Becken werden täglich gefüllt mit 1/ Million Liter frischem Heilwasser aus den Nockbergen\nBenutzung der 4000 m² großen Thermen-OASE inklusive hauseigener Heilquelle – das Heilwasser ist eine Wohltat für den Bewegungsapparat\nneues Thermal-Infinity Becken mit Schwimmteich\, Saunen\, Bergkristall-Grotte uvm.\nStille Zeit\nWellness oder Beauty-Behandlungen aus dem Hotel-Angebot optional zubuchbar\nAusflug in die Bergwelt der Nockberge – Kärnten Card inklusive\n\nab EUR 1.450\,00 pro Person/Woche im Zimmer zur Einzelbenützung\nAll Inklusive/Programm \nAnmeldung bei:\nKlaudia Molner\, Ärztlich geprüfte Fastenleiterin\,\nGesundheitscoach\, Indian Balance Instructor\n0043 664 8123481\nklaudia@dein-gesundheitscoach.at\nwww.dein-gesundheitscoach.at \noder \n5* Hotel Pulverer\, Bad Kleinkirchheim\n0043 4240 744 hotel@pulverer.at\nwww.pulverer.at/urlaubs-zuckerln 
URL:https://indian-balance.at/event/heil-und-basenfasten-indian-balance-im-5hotel-pulverer-kaernten-2/
LOCATION:5*Thermenhotel PULVERER in Bad Kleinkirchheim in den Nockbergen\, Kärnten\,\, Thermenstraße 4\, Bad Kleinkirchheim\, Kärnten\, 9546\, Österreich
CATEGORIES:Aqua Kurs,Instructor,Österreich
ATTACH;FMTTYPE=image/jpeg:https://indian-balance.at/wp-content/uploads/2024/11/Wellness.Pulverer.jpg
ORGANIZER;CN="Klaudia Molner":MAILTO:klaudia@dein-gesundheitscoach.at
GEO:46.8136761;13.7799792
X-APPLE-STRUCTURED-LOCATION;VALUE=URI;X-ADDRESS=5*Thermenhotel PULVERER in Bad Kleinkirchheim in den Nockbergen Kärnten Thermenstraße 4 Bad Kleinkirchheim Kärnten 9546 Österreich;X-APPLE-RADIUS=500;X-TITLE=Thermenstraße 4:geo:13.7799792,46.8136761
END:VEVENT
BEGIN:VEVENT
DTSTART;VALUE=DATE:20260719
DTEND;VALUE=DATE:20260726
DTSTAMP:20260422T111223
CREATED:20230118T104654Z
LAST-MODIFIED:20260212T131743Z
UID:10006062-1784419200-1785023999@indian-balance.at
SUMMARY:Heil- oder Basenfasten mit Indian Balance & Visionen und Ziele kreieren
DESCRIPTION:Heil- oder Basenfasten mit Klaudia & Indian Balance und kreiere deine Visionen und Ziele im 4*S Hotel STEINER\, Obertauern\, neu mit Adults only Rooftop-BergSPA \nEs ist Zeit – Zeit für DICH – Gönne dir diese Auszeit – bewege den Körper\, während die Seele ausruht im 4*S Hotel Steiner in Obertauern\, Salzburg  \nDein Wohlfühlprogramm \n\nHeil- oder Basenfasten für Anfänger und Liebhaber inkl. basischer Fastenverpflegung und Autophagie\nGanztags Teebar in unserem BergSPA\nEine Wohlfühlbehandlung aus unserem BergSPA Angebot (25 Minuten)\nBewegt in den Morgen (Indian Balance\, gehen\, schwimmen)\nImpulsvorträge zum Thema Fasten\, Ernährung und Essen danach\nTäglich Leberwickel genießen\nTäglich Naturbaden und die heilende Kraft der Berge und des Waldes bei einer Bewegungseinheit in der Bergwelt von Obertauern spüren\neine geführte Kräuterwanderung durch Obertauern\nThementag: Kreiere deine Visionen und Ziele neu\nStille-Zeit\nGeführte Phantasiereise mit Klängen und Saunaaufgüsse\nWorkshop in unserer Kreativwerkstatt\nWickel\, Peelings und weitere Wohlfühlbehandlungen optional in unserem BergSPA buchbar\n\nAb EUR 1.094\,00 pro Person/Aufenthalt \nAnmeldung bei:\nKlaudia Molner\, Ärztlich geprüfte Fastenleiterin\,\nGesundheitscoach\, Indian Balance Instructor\n0043 664 8123481\nklaudia@dein-gesundheitscoach.at\nwww.dein-gesundheitscoach.at \noder \n4*S Hotel Steiner\, Obertauern\n0043 6456 7306 info@hotel-steiner.at\nwww.hotel-steiner.at 
URL:https://indian-balance.at/event/basenfasten-mit-indian-balance-visionen-und-ziele-kreieren-2/
LOCATION:4*Hotel STEINER\, Obertauern\, Römerstraße 45\, Obertauern\, Oberösterreich\, 5562\, Österreich
CATEGORIES:Aqua Kurs,Instructor,Österreich
ATTACH;FMTTYPE=image/jpeg:https://indian-balance.at/wp-content/uploads/2026/02/20230704_152322-scaled.jpg
ORGANIZER;CN="Klaudia Molner":MAILTO:klaudia@dein-gesundheitscoach.at
GEO:47.2503396;13.5536062
X-APPLE-STRUCTURED-LOCATION;VALUE=URI;X-ADDRESS=4*Hotel STEINER Obertauern Römerstraße 45 Obertauern Oberösterreich 5562 Österreich;X-APPLE-RADIUS=500;X-TITLE=Römerstraße 45:geo:13.5536062,47.2503396
END:VEVENT
BEGIN:VEVENT
DTSTART;VALUE=DATE:20260821
DTEND;VALUE=DATE:20260829
DTSTAMP:20260422T111223
CREATED:20231123T185247Z
LAST-MODIFIED:20260211T220023Z
UID:10006099-1787270400-1787961599@indian-balance.at
SUMMARY:Heil- oder Basen-FASTEN am STOAKRAFTWEG & IB
DESCRIPTION:Heil- oder Basen-FASTEN mit Autophagie\, Indian Balance mit Rücken- und Faszien FIT erleben & besondere Kraftplätze am STOAKRAFTWEG im Mühlviertel entdecken\,\nHotel Dorfwirt\, Rechberg/OÖ \nDen Körper bewegen\, während die Seele ausruht und bringe dabei Körper\, Geist und Seele in Einklang. Tu dir selbst etwas Gutes! \nNEU: Fasten mit HUND möglich (bitte voranmelden). \nDein Wohlfühlpaket: \n8Tage Auszeit für DICH\nSchonendes Heil- oder BASEN Fasten mit Autophagie – wir reinigen noch intensiver\nBewegt in den Morgen – je nach Wetter – drinnen oder draußen\nIndian Balance – den Körper bewegen\, während die Seele ausruht\nImpulsvorträge zum Fasten\, Ernährung\, Darmgesundheit und Essen danach\nTäglich Moor-Leberwickel und Fußbasenbad mit viel Ruhe genießen\nTäglich Bewegungseinheiten an Kraftplätzen (Stoa-Kraftweg)\nGenießen und erspüren der herrlichen Mühlviertler Landschaft\nErlebe den STOAKRAFTWEG in seiner Herrlichkeit\nStille Zeit genießen\nSchwimmen am nahe gelegenen Badeteich (im Preis inbegriffen)\nalternativ Mountainbiken (Leihrad gegen Aufpreis vorhanden – bitte reservieren)\nAbends Sauna\, Infrarotkabine und Dampfbad möglich\, Solarium (gegen Aufpreis)\nHalbtages-Ausflug zu ganz besonderen Kraftplätzen\nZeit für Begegnungen und Austausch\neine persönliche Verwöhn-Behandlung inklusive \nALL INCLUSIVE Preis für 8 TAGE pro Person EUR 1.190\,00 inkl. basischer Fastenverpflegung\, ganztägig Tee-Bar\, Wellnessbereich\, Badesee und 1 Verwöhn- Behandlung\, Ausflug \nAnmeldung bei Klaudia Molner\nTel: 0043 664 8123481\, klaudia@dein-gesundheitscoach.at\nwww.dein-gesundheitscoach.at \noder \nGasthof der DORFWIRT\n4324 Rechberg 11\n0043 7264 4694\nwww.dorfwirt-raab.at
URL:https://indian-balance.at/event/heil-oder-basenfasten-mit-klaudia-indian-balance-2/
LOCATION:Hotel Dorfwirt\, Rechberg in OÖ\, Mühlviertela am Stoa-Kraftweg\, Rechberg 11\, 4324\, Oberösterreich\, 4324\, Österreich
CATEGORIES:Aqua Kurs,Instructor,Österreich
ATTACH;FMTTYPE=image/jpeg:https://indian-balance.at/wp-content/uploads/2023/11/20220606_121432-scaled.jpg
ORGANIZER;CN="Klaudia Molner":MAILTO:klaudia@dein-gesundheitscoach.at
GEO:48.3218933;14.7117351
X-APPLE-STRUCTURED-LOCATION;VALUE=URI;X-ADDRESS=Hotel Dorfwirt Rechberg in OÖ Mühlviertela am Stoa-Kraftweg Rechberg 11 4324 Oberösterreich 4324 Österreich;X-APPLE-RADIUS=500;X-TITLE=Rechberg 11:geo:14.7117351,48.3218933
END:VEVENT
BEGIN:VEVENT
DTSTART;VALUE=DATE:20260920
DTEND;VALUE=DATE:20260927
DTSTAMP:20260422T111223
CREATED:20231123T183920Z
LAST-MODIFIED:20260211T221356Z
UID:10006100-1789862400-1790467199@indian-balance.at
SUMMARY:Heil- oder Basenfasten mit Klaudia & Indian Balance in Obertauern
DESCRIPTION:Heil- oder Basenfasten mit Klaudia & Indian Balance mit Rücken- und Faszien FIT  im 4*S Hotel STEINER\, Obertauern\,\nneu mit Adults only Rooftop-BergSPA \nEs ist Zeit – Zeit für DICH – Gönne dir diese Auszeit – bewege den Körper\, während die Seele ausruht im 4*S Hotel Steiner in Obertauern\, Salzburg  \nDein Wohlfühlprogramm \n\nHeil- oder Basenfasten für Anfänger und Liebhaber inkl. basischer Fastenverpflegung und Autophagie\nGanztags Teebar in unserem BergSPA\nEine Wohlfühlbehandlung aus unserem BergSPA Angebot (25 Minuten)\nSteiners BergSPA mit großem Indoorpool und vielen Saunen\nAdult-only Rooftop-SPA mit Infinity-Pool und Saunen genießen\nBewegt in den Morgen (Indian Balance\, gehen\, schwimmen)\nNEU: AQUA Indian Balance \nImpulsvorträge zum Thema Fasten\, Ernährung und Essen danach\nTäglich Leberwickel genießen\nTäglich Naturbaden und die heilende Kraft der Berge und des Waldes bei einer Bewegungseinheit in der Bergwelt von Obertauern spüren\nBegleiteter Ausflug in die Bergwelt von Obertauern mit\n3 Seen Wanderung\nWanderung zum Johannes Wasserfall\neine geführte Kräuterwanderung durch Obertauern\nThementag: Bringe deine Visionen und Ziele zu Papier – wir gestalten ein Visionboard\nStille-Zeit\nGeführte Phantasiereise mit Klängen und Saunaaufgüsse\nWickel\, Peelings und weitere Wohlfühlbehandlungen optional in unserem BergSPA buchbar\n\nEUR 1.094\,00 pro Person/Aufenthalt im EZ \nAnmeldung bei:\nKlaudia Molner\, Ärztlich geprüfte Fastenleiterin\,\nGesundheitscoach\, Indian Balance Instructor\n0043 664 8123481\nklaudia@dein-gesundheitscoach.at\nwww.dein-gesundheitscoach.at \noder \n4*S Hotel Steiner\, Obertauern\n0043 6456 7306 info@hotel-steiner.at\nwww.hotel-steiner.at 
URL:https://indian-balance.at/event/automatisch-gespeicherter-entwurf/
LOCATION:4*Hotel STEINER\, Obertauern\, Römerstraße 45\, Obertauern\, Oberösterreich\, 5562\, Österreich
CATEGORIES:Aqua Kurs,Instructor,Kurs,Österreich
ATTACH;FMTTYPE=image/jpeg:https://indian-balance.at/wp-content/uploads/2023/11/20230704_152322-scaled.jpg
ORGANIZER;CN="Klaudia Molner":MAILTO:klaudia@dein-gesundheitscoach.at
GEO:47.2503396;13.5536062
X-APPLE-STRUCTURED-LOCATION;VALUE=URI;X-ADDRESS=4*Hotel STEINER Obertauern Römerstraße 45 Obertauern Oberösterreich 5562 Österreich;X-APPLE-RADIUS=500;X-TITLE=Römerstraße 45:geo:13.5536062,47.2503396
END:VEVENT
BEGIN:VEVENT
DTSTART;TZID=Europe/Vienna:20261011T140000
DTEND;TZID=Europe/Vienna:20261017T110000
DTSTAMP:20260422T111223
CREATED:20231123T235347Z
LAST-MODIFIED:20260211T221128Z
UID:10006102-1791727200-1792234800@indian-balance.at
SUMMARY:Heil- und Basenfasten & INDIAN BALANCE im 5*Hotel Pulverer\, Kärnten
DESCRIPTION:Heil- und Basenfasten in den Nockbergen & Indian Balance mit Rücken- und Faszien FIT erleben \nKörper\, Geist und Seele in Einklang bringen im 5*Thermenhotel Pulverer  Bad Kleinkirchheim \nDein Wohlfühlprogramm \n\n7 Tage Heil- oder Basenfasten inkl. basischer Fastenverpflegung und Autophagie\nGanztägige Teebar und hauseigenes Heilwasser inkludiert\nEine Nock-Vital Teilmassage 25 Min inklusive\nBewegt in den Morgen (Indian Balance\, gehen\, schwimmen)\nNEU: AQUA Indian Balance\nIndian Balance erleben – den Körper bewegen\, während die Seele ausruht\nImpulsvorträge zum Thema Fasten\, Ernährung\, Darm-fit und Essen danach\ntäglich Leberwickel genießen und entspannen\ntäglich begleitete Bewegungseinheiten und die heilende Kraft der Nockberge\nspüren und inhalieren\nAchtsames erleben – innehalten und bewusst wahrnehmen\nBesuch des Ursprungs der Heilquelle\nhoteleigene Thermenwelt – sämtliche Becken werden täglich gefüllt mit 1/4 Million Liter frischem Heilwasser aus den Nockbergen\nBenutzung der 4000 m² großen Thermen-OASE inklusive hauseigener Heilquelle – das Heilwasser ist eine Wohltat für den Bewegungsapparat\nneues Thermal-Infinity Becken mit Schwimmteich\, Saunen\, Bergkristall-Grotte uvm.\nStille Zeit\nWellness oder Beauty-Behandlungen aus dem Hotel-Angebot optional zubuchbar\nAusflug in die Bergwelt der Nockberge – Kärnten Card inklusive\n\nab EUR 1.450\,0 pro Person/Woche im Zimmer zur Einzelbenützung\nAll Inklusive/Programm \nAnmeldung bei:\nKlaudia Molner\, Ärztlich geprüfte Fastenleiterin\,\nGesundheitscoach\, Indian Balance Instructor\n0043 664 8123481\nklaudia@dein-gesundheitscoach.at\nwww.dein-gesundheitscoach.at \noder \n5* Hotel Pulverer\, Bad Kleinkirchheim\n0043 4240 744 hotel@pulverer.at\nwww.pulverer.at/urlaubs-zuckerln 
URL:https://indian-balance.at/event/heil-und-basenfasten-indian-balance-im-5hotel-pulverer-kaernten/
LOCATION:5*Thermenhotel PULVERER in Bad Kleinkirchheim in den Nockbergen\, Kärnten\,\, Thermenstraße 4\, Bad Kleinkirchheim\, Kärnten\, 9546\, Österreich
CATEGORIES:Aqua Kurs,Instructor,Österreich
ATTACH;FMTTYPE=image/jpeg:https://indian-balance.at/wp-content/uploads/2023/11/20240607_084137-scaled.jpg
ORGANIZER;CN="Klaudia Molner":MAILTO:klaudia@dein-gesundheitscoach.at
GEO:46.8136761;13.7799792
X-APPLE-STRUCTURED-LOCATION;VALUE=URI;X-ADDRESS=5*Thermenhotel PULVERER in Bad Kleinkirchheim in den Nockbergen Kärnten Thermenstraße 4 Bad Kleinkirchheim Kärnten 9546 Österreich;X-APPLE-RADIUS=500;X-TITLE=Thermenstraße 4:geo:13.7799792,46.8136761
END:VEVENT
BEGIN:VEVENT
DTSTART;VALUE=DATE:20261024
DTEND;VALUE=DATE:20261101
DTSTAMP:20260422T111223
CREATED:20241108T081349Z
LAST-MODIFIED:20260211T221952Z
UID:10006431-1792800000-1793491199@indian-balance.at
SUMMARY:Fasten mit Klaudia im Kloster & Indian Balance in Salzburg
DESCRIPTION:FASTEN mit Klaudia im KLOSTER \nÜber den Dächern Salzburgs\, auf dem Mönchsberg liegt das Kloster der Pallotiner – das Johannes-Schlössl. Tauchen Sie ein in die Stille des Klosters – in die Auszeitoase im Zentrum der Stadt. \nInkludierte Leistungen: \n\nNächtigung\, Fastenverpflegung\n24 Stunden Tee Bar\nStille-Zeit\nTäglich bewegen wir uns im Fastentempo durch die schöne Umgebung von Salzburg\nTägliche Leberwickel und basische Fußbäder\nThemenvorträge zum Fasten und Ernährung\, Darm und Essen danach\nAbwechslungsreiches Bewegungs- und Entspannungsprogramm\nSpezial: INDIAN BALANCE mit Rücken- und Faszien FIT\nMeditationen und Achtsamkeitsübungen\n\nDie Unterstützung der Gruppe oder das Alleinsein ist ebenso möglich wie ein Vertrauensgespräch mit den Padres. \nPreis pro Person bitte aktuell auf der Klosterhomepage nachschauen \nall inclusive Fastenverpflegung\, ganztägige Tee-Bar \nAnmeldung bei Klaudia Molner\nTel: 0043 664 8123481\, klaudia@dein-gesundheitscoach.at\nwww.dein-gesundheitscoach.at \noder \nJohannes-Schlössl der Pallotiner\nTel: 0043 662 8465630\nwww.johannes-schloessl.at/klosterfasten/
URL:https://indian-balance.at/event/fasten-mit-klaudia-im-kloster-indian-balance-in-salzburg-2/
LOCATION:Johannes Schlössl der Pallotiner\, Am Mönchsberg 24\, Salzburg\, Salzburg\, 5020\, Österreich
CATEGORIES:Aqua Ausbildung,Instructor,Österreich
ATTACH;FMTTYPE=image/jpeg:https://indian-balance.at/wp-content/uploads/2024/11/20240329_113032-scaled.jpg
ORGANIZER;CN="Klaudia Molner":MAILTO:klaudia@dein-gesundheitscoach.at
GEO:47.8018905;13.0335921
X-APPLE-STRUCTURED-LOCATION;VALUE=URI;X-ADDRESS=Johannes Schlössl der Pallotiner Am Mönchsberg 24 Salzburg Salzburg 5020 Österreich;X-APPLE-RADIUS=500;X-TITLE=Am Mönchsberg 24:geo:13.0335921,47.8018905
END:VEVENT
BEGIN:VEVENT
DTSTART;VALUE=DATE:20261122
DTEND;VALUE=DATE:20261129
DTSTAMP:20260422T111223
CREATED:20241108T081344Z
LAST-MODIFIED:20260211T220354Z
UID:10006432-1795305600-1795910399@indian-balance.at
SUMMARY:Heil- oder Basenfasten im 4*Wellness Hotel Sperlhof & IB
DESCRIPTION:Heilfasten oder Basen-FASTEN mit Autophagie\, Indian Balance erleben & den Nationalpark entdecken im 4*Wellness Hotel Sperlhof\, Windischgarsten/OÖ \nDen Körper bewegen\, während die Seele ausruht und dabei Körper\, Geist und Seele in Einklang bringen. \nNEU: Fasten mit HUND möglich\, bitte anmelden \n\n7  Tage Heil- oder Basen-Fasten mit ärztlich geprüfter Fastenleiterin Klaudia\nbewegt in den Morgen (gehen\, schwimmen oder Indian Balance)\nNEU: Aqua Indian Balance\nImpulsvorträge zum Fasten\, Ernährung\, Darmgesundheit und Essen danach\ntäglich Leberwickel mit Moorpackung und basische Fußbäder genießen\ntäglich Bewegungseinheiten in Wald und Natur – Nationalpark Kalkalpen mit seinen Schönheiten erleben\nAusflug inklusive – Nationalpark pur erleben – geplant Rangertour\nStille Zeit für DICH\nFeuerschale mit Ingwer – Orangen – Pot oder heißem Tee\n1 persönliche Verwöhn-Behandlung inklusive\nWellnesswelt des Sperlhofes mit In- und Outdoor-Pool sowie Alpen Spa\n\nPreis pro Person EUR 1.140\,00 im Einzelzimmer\nall inclusive Fastenverpflegung\, 30 min. Verwöhn-Behandlung\nganztägige Tee-Bar\, inkl. Wellnessbereiche & Ausflug \nAnmeldung bei Klaudia Molner\nTel: 0043 664 8123481\, klaudia@dein-gesundheitscoach.at\nwww.dein-gesundheitscoach.at \noder \n4*-Wellness-Hotel Sperlhof\, Windischgarsten\nTel: 0043 7562 7430\, office@sperlhof.at\nwww.sperlhof.at
URL:https://indian-balance.at/event/heil-oder-basenfasten-im-4wellness-hotel-sperlhof-ib-2/
LOCATION:Wellness Hotel Sperlhof\, Windischgarsten\, Edlbach 34\, 4580 Edlbach\, Windischgarsten\, Oberösterreich\, 4580\, Österreich
CATEGORIES:Aqua Ausbildung,Aqua Kurs,Instructor,Österreich
ATTACH;FMTTYPE=image/jpeg:https://indian-balance.at/wp-content/uploads/2024/11/Screenshot_20240120_201549_OneDrive.jpg
ORGANIZER;CN="Klaudia Molner":MAILTO:klaudia@dein-gesundheitscoach.at
GEO:47.7139597;14.3584031
X-APPLE-STRUCTURED-LOCATION;VALUE=URI;X-ADDRESS=Wellness Hotel Sperlhof Windischgarsten Edlbach 34 4580 Edlbach Windischgarsten Oberösterreich 4580 Österreich;X-APPLE-RADIUS=500;X-TITLE=Edlbach 34\, 4580 Edlbach:geo:14.3584031,47.7139597
END:VEVENT
BEGIN:VEVENT
DTSTART;TZID=Europe/Vienna:20261213T160000
DTEND;TZID=Europe/Vienna:20261218T110000
DTSTAMP:20260422T111223
CREATED:20231123T235159Z
LAST-MODIFIED:20260211T223452Z
UID:10006106-1797177600-1797591600@indian-balance.at
SUMMARY:Fasten im KLOSTER mit Klaudia und Indian Balance
DESCRIPTION:FASTEN mit Klaudia im KLOSTER \nÜber den Dächern Salzburgs\, auf dem Mönchsberg liegt das Kloster der Pallotiner – das Johannes-Schlössl. Tauchen Sie ein in die Stille des Klosters – in die Auszeitoase im Zentrum der Stadt. \nInkludierte Leistungen: \n\nNächtigung\, Fastenverpflegung\n24 Stunden Tee Bar\nStille-Zeit\nTäglich bewegen wir uns im Fastentempo durch die schöne Umgebung von Salzburg\nTägliche Leberwickel und basische Fußbäder\nThemenvorträge zum Fasten und Ernährung\, Darm und Essen danach\nAbwechslungsreiches Bewegungs- und Entspannungsprogramm\nSpezial: INDIAN BALANCE mit Rücken- und Faszien FIT\nMeditationen und Achtsamkeitsübungen\n\nDie Unterstützung der Gruppe oder das Alleinsein ist ebenso möglich wie ein Vertrauensgespräch mit den Padres. \nPreis pro Person bitte im Kloster buchen und erfragen\, Datenblatt an mich\nall inclusive Fastenverpflegung\, ganztägige Tee-Bar \nAnmeldung bei Klaudia Molner\nTel: 0043 664 8123481\, klaudia@dein-gesundheitscoach.at\nwww.dein-gesundheitscoach.at \noder \nJohannes-Schlössl der Pallotiner\nTel: 0043 662 8465630\nwww.johannes-schloessl.at/klosterfasten/
URL:https://indian-balance.at/event/fasten-im-kloster-mit-klaudia-und-indian-balance/
LOCATION:Johannes Schlössl der Pallotiner\, Am Mönchsberg 24\, Salzburg\, Salzburg\, 5020\, Österreich
CATEGORIES:Instructor,Österreich
ATTACH;FMTTYPE=image/jpeg:https://indian-balance.at/wp-content/uploads/2023/11/20230504_180926-scaled.jpg
ORGANIZER;CN="Klaudia Molner":MAILTO:klaudia@dein-gesundheitscoach.at
GEO:47.8018905;13.0335921
X-APPLE-STRUCTURED-LOCATION;VALUE=URI;X-ADDRESS=Johannes Schlössl der Pallotiner Am Mönchsberg 24 Salzburg Salzburg 5020 Österreich;X-APPLE-RADIUS=500;X-TITLE=Am Mönchsberg 24:geo:13.0335921,47.8018905
END:VEVENT
END:VCALENDAR