BEGIN:VCALENDAR
VERSION:2.0
PRODID:-//Bewegen &amp; Beleben - ECPv6.15.20//NONSGML v1.0//EN
CALSCALE:GREGORIAN
METHOD:PUBLISH
X-WR-CALNAME:Bewegen &amp; Beleben
X-ORIGINAL-URL:https://indian-balance.at
X-WR-CALDESC:Veranstaltungen für Bewegen &amp; Beleben
REFRESH-INTERVAL;VALUE=DURATION:PT1H
X-Robots-Tag:noindex
X-PUBLISHED-TTL:PT1H
BEGIN:VTIMEZONE
TZID:Europe/Berlin
BEGIN:DAYLIGHT
TZOFFSETFROM:+0100
TZOFFSETTO:+0200
TZNAME:CEST
DTSTART:20170326T010000
END:DAYLIGHT
BEGIN:STANDARD
TZOFFSETFROM:+0200
TZOFFSETTO:+0100
TZNAME:CET
DTSTART:20171029T010000
END:STANDARD
BEGIN:DAYLIGHT
TZOFFSETFROM:+0100
TZOFFSETTO:+0200
TZNAME:CEST
DTSTART:20180325T010000
END:DAYLIGHT
BEGIN:STANDARD
TZOFFSETFROM:+0200
TZOFFSETTO:+0100
TZNAME:CET
DTSTART:20181028T010000
END:STANDARD
BEGIN:DAYLIGHT
TZOFFSETFROM:+0100
TZOFFSETTO:+0200
TZNAME:CEST
DTSTART:20190331T010000
END:DAYLIGHT
BEGIN:STANDARD
TZOFFSETFROM:+0200
TZOFFSETTO:+0100
TZNAME:CET
DTSTART:20191027T010000
END:STANDARD
END:VTIMEZONE
BEGIN:VEVENT
DTSTART;TZID=Europe/Berlin:20180705T170000
DTEND;TZID=Europe/Berlin:20180705T180000
DTSTAMP:20260424T013441
CREATED:20221214T211906Z
LAST-MODIFIED:20221214T211906Z
UID:10005316-1530810000-1530813600@indian-balance.at
SUMMARY:Kraft und Balance im Frühsommer am Feuerberg
DESCRIPTION:Indian Balance und Aqua Fit\n… vom 01.07. bis 07.07.2018 mit Barbara Lechner \n„Trainiere im Wasser und sei fit an Land!“ Fitnessorientiert mit etlichen Aerobic- und Pilates-Elementen stärkt man so die Muskulatur und das Herz-Kreislaufsystem. Indian Balance nennt sich die Kunst\, den Körper zu bewegen\, während sich die Seele ausruht. Erleben Sie dieses neue Trainingskonzept.
URL:https://indian-balance.at/event/kraft_feuerberg/2018-07-05/
LOCATION:Mountain Resort  Feuerberg\, Gerlitzenstr. 87\, Bodensdorf\, Kärnten\, 9551\, Österreich
CATEGORIES:Aqua Kurs,Kurs
ATTACH;FMTTYPE=image/jpeg:https://indian-balance.at/wp-content/uploads/2017/09/Feuerberg-Pool.jpg
ORGANIZER;CN="Barbara Lechner":MAILTO:office@profit4u.at
GEO:46.6945643;13.923068
X-APPLE-STRUCTURED-LOCATION;VALUE=URI;X-ADDRESS=Mountain Resort  Feuerberg Gerlitzenstr. 87 Bodensdorf Kärnten 9551 Österreich;X-APPLE-RADIUS=500;X-TITLE=Gerlitzenstr. 87:geo:13.923068,46.6945643
END:VEVENT
BEGIN:VEVENT
DTSTART;TZID=Europe/Berlin:20180705T080000
DTEND;TZID=Europe/Berlin:20180711T090000
DTSTAMP:20260424T013441
CREATED:20180323T190116Z
LAST-MODIFIED:20180323T191522Z
UID:10005310-1530777600-1531299600@indian-balance.at
SUMMARY:Kraft und Balance im Frühsommer am Feuerberg
DESCRIPTION:Indian Balance und Aqua Fit\n… vom 01.07. bis 07.07.2018 mit Barbara Lechner \n„Trainiere im Wasser und sei fit an Land!“ Fitnessorientiert mit etlichen Aerobic- und Pilates-Elementen stärkt man so die Muskulatur und das Herz-Kreislaufsystem. Indian Balance nennt sich die Kunst\, den Körper zu bewegen\, während sich die Seele ausruht. Erleben Sie dieses neue Trainingskonzept.
URL:https://indian-balance.at/event/kraft_feuerberg/2018-07-05/
LOCATION:Mountain Resort  Feuerberg\, Gerlitzenstr. 87\, Bodensdorf\, Kärnten\, 9551\, Österreich
CATEGORIES:Aqua Kurs,Kurs
ATTACH;FMTTYPE=image/jpeg:https://indian-balance.at/wp-content/uploads/2017/09/Feuerberg-Pool.jpg
ORGANIZER;CN="Barbara Lechner":MAILTO:office@profit4u.at
GEO:46.6945643;13.923068
X-APPLE-STRUCTURED-LOCATION;VALUE=URI;X-ADDRESS=Mountain Resort  Feuerberg Gerlitzenstr. 87 Bodensdorf Kärnten 9551 Österreich;X-APPLE-RADIUS=500;X-TITLE=Gerlitzenstr. 87:geo:13.923068,46.6945643
END:VEVENT
BEGIN:VEVENT
DTSTART;TZID=Europe/Berlin:20180704T170000
DTEND;TZID=Europe/Berlin:20180704T180000
DTSTAMP:20260424T013441
CREATED:20221214T211906Z
LAST-MODIFIED:20221214T211906Z
UID:10005315-1530723600-1530727200@indian-balance.at
SUMMARY:Kraft und Balance im Frühsommer am Feuerberg
DESCRIPTION:Indian Balance und Aqua Fit\n… vom 01.07. bis 07.07.2018 mit Barbara Lechner \n„Trainiere im Wasser und sei fit an Land!“ Fitnessorientiert mit etlichen Aerobic- und Pilates-Elementen stärkt man so die Muskulatur und das Herz-Kreislaufsystem. Indian Balance nennt sich die Kunst\, den Körper zu bewegen\, während sich die Seele ausruht. Erleben Sie dieses neue Trainingskonzept.
URL:https://indian-balance.at/event/kraft_feuerberg/2018-07-04/
LOCATION:Mountain Resort  Feuerberg\, Gerlitzenstr. 87\, Bodensdorf\, Kärnten\, 9551\, Österreich
CATEGORIES:Aqua Kurs,Kurs
ATTACH;FMTTYPE=image/jpeg:https://indian-balance.at/wp-content/uploads/2017/09/Feuerberg-Pool.jpg
ORGANIZER;CN="Barbara Lechner":MAILTO:office@profit4u.at
GEO:46.6945643;13.923068
X-APPLE-STRUCTURED-LOCATION;VALUE=URI;X-ADDRESS=Mountain Resort  Feuerberg Gerlitzenstr. 87 Bodensdorf Kärnten 9551 Österreich;X-APPLE-RADIUS=500;X-TITLE=Gerlitzenstr. 87:geo:13.923068,46.6945643
END:VEVENT
BEGIN:VEVENT
DTSTART;TZID=Europe/Berlin:20180704T100000
DTEND;TZID=Europe/Berlin:20180704T110000
DTSTAMP:20260424T013441
CREATED:20180726T144851Z
LAST-MODIFIED:20180726T144851Z
UID:10005389-1530698400-1530702000@indian-balance.at
SUMMARY:Wochenkurs Indian Balance Rücken Spezial (Sommer)
DESCRIPTION:Indian Balance® Rücken Spezial\nDas mentale Fitnessprogramm vereint dehnen\, kräftigen und mobilisieren gleichzeitig mit fließenden Bewegungen basierend auf den energetischen Kräften der überlieferten Krafttieren der indigenen Völker Nord- und Südamerikas. \nDie ruhigen aber dennoch herausfordernden Bewegungsabläufe fördern die Koordination\, die Mobilisation und Konzentration. Gleichzeitig entspannt der Geist. \nErlebe bewegte Entspannung und entspannende Bewegung! \nFür alle Altersgruppen und Konditionstypen geeignet \nEinstieg jederzeit möglich!
URL:https://indian-balance.at/event/indian-balance-ruecken-spezial-2/2018-07-04/
LOCATION:Timeout Lounge\, Griesgasse 10\, Dachgeschoß\, Graz\, Steiermark\, 8010\, Österreich
CATEGORIES:Kurs
ATTACH;FMTTYPE=image/jpeg:https://indian-balance.at/wp-content/uploads/2018/01/BL_IB_Alan_Mamid_freigestellt_2013.jpeg
ORGANIZER;CN="Barbara Lechner":MAILTO:office@profit4u.at
GEO:47.0674445;15.4439524
X-APPLE-STRUCTURED-LOCATION;VALUE=URI;X-ADDRESS=Timeout Lounge Griesgasse 10 Dachgeschoß Graz Steiermark 8010 Österreich;X-APPLE-RADIUS=500;X-TITLE=Griesgasse 10\, Dachgeschoß:geo:15.4439524,47.0674445
END:VEVENT
BEGIN:VEVENT
DTSTART;TZID=Europe/Berlin:20180704T080000
DTEND;TZID=Europe/Berlin:20180710T090000
DTSTAMP:20260424T013441
CREATED:20180323T190116Z
LAST-MODIFIED:20180323T191522Z
UID:10005309-1530691200-1531213200@indian-balance.at
SUMMARY:Kraft und Balance im Frühsommer am Feuerberg
DESCRIPTION:Indian Balance und Aqua Fit\n… vom 01.07. bis 07.07.2018 mit Barbara Lechner \n„Trainiere im Wasser und sei fit an Land!“ Fitnessorientiert mit etlichen Aerobic- und Pilates-Elementen stärkt man so die Muskulatur und das Herz-Kreislaufsystem. Indian Balance nennt sich die Kunst\, den Körper zu bewegen\, während sich die Seele ausruht. Erleben Sie dieses neue Trainingskonzept.
URL:https://indian-balance.at/event/kraft_feuerberg/2018-07-04/
LOCATION:Mountain Resort  Feuerberg\, Gerlitzenstr. 87\, Bodensdorf\, Kärnten\, 9551\, Österreich
CATEGORIES:Aqua Kurs,Kurs
ATTACH;FMTTYPE=image/jpeg:https://indian-balance.at/wp-content/uploads/2017/09/Feuerberg-Pool.jpg
ORGANIZER;CN="Barbara Lechner":MAILTO:office@profit4u.at
GEO:46.6945643;13.923068
X-APPLE-STRUCTURED-LOCATION;VALUE=URI;X-ADDRESS=Mountain Resort  Feuerberg Gerlitzenstr. 87 Bodensdorf Kärnten 9551 Österreich;X-APPLE-RADIUS=500;X-TITLE=Gerlitzenstr. 87:geo:13.923068,46.6945643
END:VEVENT
BEGIN:VEVENT
DTSTART;TZID=Europe/Berlin:20180703T170000
DTEND;TZID=Europe/Berlin:20180703T180000
DTSTAMP:20260424T013441
CREATED:20221214T211906Z
LAST-MODIFIED:20221214T211906Z
UID:10005314-1530637200-1530640800@indian-balance.at
SUMMARY:Kraft und Balance im Frühsommer am Feuerberg
DESCRIPTION:Indian Balance und Aqua Fit\n… vom 01.07. bis 07.07.2018 mit Barbara Lechner \n„Trainiere im Wasser und sei fit an Land!“ Fitnessorientiert mit etlichen Aerobic- und Pilates-Elementen stärkt man so die Muskulatur und das Herz-Kreislaufsystem. Indian Balance nennt sich die Kunst\, den Körper zu bewegen\, während sich die Seele ausruht. Erleben Sie dieses neue Trainingskonzept.
URL:https://indian-balance.at/event/kraft_feuerberg/2018-07-03/
LOCATION:Mountain Resort  Feuerberg\, Gerlitzenstr. 87\, Bodensdorf\, Kärnten\, 9551\, Österreich
CATEGORIES:Aqua Kurs,Kurs
ATTACH;FMTTYPE=image/jpeg:https://indian-balance.at/wp-content/uploads/2017/09/Feuerberg-Pool.jpg
ORGANIZER;CN="Barbara Lechner":MAILTO:office@profit4u.at
GEO:46.6945643;13.923068
X-APPLE-STRUCTURED-LOCATION;VALUE=URI;X-ADDRESS=Mountain Resort  Feuerberg Gerlitzenstr. 87 Bodensdorf Kärnten 9551 Österreich;X-APPLE-RADIUS=500;X-TITLE=Gerlitzenstr. 87:geo:13.923068,46.6945643
END:VEVENT
BEGIN:VEVENT
DTSTART;TZID=Europe/Berlin:20180703T080000
DTEND;TZID=Europe/Berlin:20180709T090000
DTSTAMP:20260424T013441
CREATED:20180323T190116Z
LAST-MODIFIED:20180323T191522Z
UID:10005308-1530604800-1531126800@indian-balance.at
SUMMARY:Kraft und Balance im Frühsommer am Feuerberg
DESCRIPTION:Indian Balance und Aqua Fit\n… vom 01.07. bis 07.07.2018 mit Barbara Lechner \n„Trainiere im Wasser und sei fit an Land!“ Fitnessorientiert mit etlichen Aerobic- und Pilates-Elementen stärkt man so die Muskulatur und das Herz-Kreislaufsystem. Indian Balance nennt sich die Kunst\, den Körper zu bewegen\, während sich die Seele ausruht. Erleben Sie dieses neue Trainingskonzept.
URL:https://indian-balance.at/event/kraft_feuerberg/2018-07-03/
LOCATION:Mountain Resort  Feuerberg\, Gerlitzenstr. 87\, Bodensdorf\, Kärnten\, 9551\, Österreich
CATEGORIES:Aqua Kurs,Kurs
ATTACH;FMTTYPE=image/jpeg:https://indian-balance.at/wp-content/uploads/2017/09/Feuerberg-Pool.jpg
ORGANIZER;CN="Barbara Lechner":MAILTO:office@profit4u.at
GEO:46.6945643;13.923068
X-APPLE-STRUCTURED-LOCATION;VALUE=URI;X-ADDRESS=Mountain Resort  Feuerberg Gerlitzenstr. 87 Bodensdorf Kärnten 9551 Österreich;X-APPLE-RADIUS=500;X-TITLE=Gerlitzenstr. 87:geo:13.923068,46.6945643
END:VEVENT
BEGIN:VEVENT
DTSTART;TZID=Europe/Berlin:20180702T170000
DTEND;TZID=Europe/Berlin:20180702T180000
DTSTAMP:20260424T013441
CREATED:20221214T211906Z
LAST-MODIFIED:20221214T211906Z
UID:10005313-1530550800-1530554400@indian-balance.at
SUMMARY:Kraft und Balance im Frühsommer am Feuerberg
DESCRIPTION:Indian Balance und Aqua Fit\n… vom 01.07. bis 07.07.2018 mit Barbara Lechner \n„Trainiere im Wasser und sei fit an Land!“ Fitnessorientiert mit etlichen Aerobic- und Pilates-Elementen stärkt man so die Muskulatur und das Herz-Kreislaufsystem. Indian Balance nennt sich die Kunst\, den Körper zu bewegen\, während sich die Seele ausruht. Erleben Sie dieses neue Trainingskonzept.
URL:https://indian-balance.at/event/kraft_feuerberg/2018-07-02/
LOCATION:Mountain Resort  Feuerberg\, Gerlitzenstr. 87\, Bodensdorf\, Kärnten\, 9551\, Österreich
CATEGORIES:Aqua Kurs,Kurs
ATTACH;FMTTYPE=image/jpeg:https://indian-balance.at/wp-content/uploads/2017/09/Feuerberg-Pool.jpg
ORGANIZER;CN="Barbara Lechner":MAILTO:office@profit4u.at
GEO:46.6945643;13.923068
X-APPLE-STRUCTURED-LOCATION;VALUE=URI;X-ADDRESS=Mountain Resort  Feuerberg Gerlitzenstr. 87 Bodensdorf Kärnten 9551 Österreich;X-APPLE-RADIUS=500;X-TITLE=Gerlitzenstr. 87:geo:13.923068,46.6945643
END:VEVENT
BEGIN:VEVENT
DTSTART;TZID=Europe/Berlin:20180702T080000
DTEND;TZID=Europe/Berlin:20180708T090000
DTSTAMP:20260424T013441
CREATED:20180323T190116Z
LAST-MODIFIED:20180323T191522Z
UID:10005307-1530518400-1531040400@indian-balance.at
SUMMARY:Kraft und Balance im Frühsommer am Feuerberg
DESCRIPTION:Indian Balance und Aqua Fit\n… vom 01.07. bis 07.07.2018 mit Barbara Lechner \n„Trainiere im Wasser und sei fit an Land!“ Fitnessorientiert mit etlichen Aerobic- und Pilates-Elementen stärkt man so die Muskulatur und das Herz-Kreislaufsystem. Indian Balance nennt sich die Kunst\, den Körper zu bewegen\, während sich die Seele ausruht. Erleben Sie dieses neue Trainingskonzept.
URL:https://indian-balance.at/event/kraft_feuerberg/2018-07-02/
LOCATION:Mountain Resort  Feuerberg\, Gerlitzenstr. 87\, Bodensdorf\, Kärnten\, 9551\, Österreich
CATEGORIES:Aqua Kurs,Kurs
ATTACH;FMTTYPE=image/jpeg:https://indian-balance.at/wp-content/uploads/2017/09/Feuerberg-Pool.jpg
ORGANIZER;CN="Barbara Lechner":MAILTO:office@profit4u.at
GEO:46.6945643;13.923068
X-APPLE-STRUCTURED-LOCATION;VALUE=URI;X-ADDRESS=Mountain Resort  Feuerberg Gerlitzenstr. 87 Bodensdorf Kärnten 9551 Österreich;X-APPLE-RADIUS=500;X-TITLE=Gerlitzenstr. 87:geo:13.923068,46.6945643
END:VEVENT
BEGIN:VEVENT
DTSTART;TZID=Europe/Berlin:20180701T080000
DTEND;TZID=Europe/Berlin:20180707T090000
DTSTAMP:20260424T013441
CREATED:20180323T190116Z
LAST-MODIFIED:20180323T191522Z
UID:10005306-1530432000-1530954000@indian-balance.at
SUMMARY:Kraft und Balance im Frühsommer am Feuerberg
DESCRIPTION:Indian Balance und Aqua Fit\n… vom 01.07. bis 07.07.2018 mit Barbara Lechner \n„Trainiere im Wasser und sei fit an Land!“ Fitnessorientiert mit etlichen Aerobic- und Pilates-Elementen stärkt man so die Muskulatur und das Herz-Kreislaufsystem. Indian Balance nennt sich die Kunst\, den Körper zu bewegen\, während sich die Seele ausruht. Erleben Sie dieses neue Trainingskonzept.
URL:https://indian-balance.at/event/kraft_feuerberg/2018-07-01/
LOCATION:Mountain Resort  Feuerberg\, Gerlitzenstr. 87\, Bodensdorf\, Kärnten\, 9551\, Österreich
CATEGORIES:Aqua Kurs,Kurs
ATTACH;FMTTYPE=image/jpeg:https://indian-balance.at/wp-content/uploads/2017/09/Feuerberg-Pool.jpg
ORGANIZER;CN="Barbara Lechner":MAILTO:office@profit4u.at
GEO:46.6945643;13.923068
X-APPLE-STRUCTURED-LOCATION;VALUE=URI;X-ADDRESS=Mountain Resort  Feuerberg Gerlitzenstr. 87 Bodensdorf Kärnten 9551 Österreich;X-APPLE-RADIUS=500;X-TITLE=Gerlitzenstr. 87:geo:13.923068,46.6945643
END:VEVENT
BEGIN:VEVENT
DTSTART;VALUE=DATE:20180330
DTEND;VALUE=DATE:20180403
DTSTAMP:20260424T013441
CREATED:20180324T205739Z
LAST-MODIFIED:20180324T210047Z
UID:10005319-1522368000-1522713599@indian-balance.at
SUMMARY:Osterwochenende in der Rimske Terme
DESCRIPTION:AQUA-Indian Balance®\nErlebe die energiereichen Übungen der indianischen Bewegungs- und Klangwelt als effektives Faszientraining und spüre dabei die Leichtigkeit deines Körpers im Wasser mit der IB Philosophie „Den Körper bewegen\, während die Seele ausruht“! \n\n\n\n\nAnmeldung und Information:\nE-Mail: info@indian-balance.at  \nMobil: +43(0)664 451 4006 \n 
URL:https://indian-balance.at/event/aqua-indian-balance-premiere-2018-2/
LOCATION:Rimske Terme\, Toplice 10\, Rimske Terme\, Zdravje\,\, Rimske-Toplice\, 3272\, Slovenien
CATEGORIES:Aqua Ausbildung,Aqua Kurs,Kurs,Österreich
ATTACH;FMTTYPE=image/jpeg:https://indian-balance.at/wp-content/uploads/2017/02/IB-Wakanda-6-e1516389309624.jpg
ORGANIZER;CN="Barbara Lechner":MAILTO:office@profit4u.at
GEO:46.119129;15.202626
X-APPLE-STRUCTURED-LOCATION;VALUE=URI;X-ADDRESS=Rimske Terme Toplice 10 Rimske Terme Zdravje Rimske-Toplice 3272 Slovenien;X-APPLE-RADIUS=500;X-TITLE=Toplice 10\, Rimske Terme\, Zdravje\,:geo:15.202626,46.119129
END:VEVENT
END:VCALENDAR