BEGIN:VCALENDAR
VERSION:2.0
PRODID:-//Bewegen &amp; Beleben - ECPv6.15.20//NONSGML v1.0//EN
CALSCALE:GREGORIAN
METHOD:PUBLISH
X-WR-CALNAME:Bewegen &amp; Beleben
X-ORIGINAL-URL:https://indian-balance.at
X-WR-CALDESC:Veranstaltungen für Bewegen &amp; Beleben
REFRESH-INTERVAL;VALUE=DURATION:PT1H
X-Robots-Tag:noindex
X-PUBLISHED-TTL:PT1H
BEGIN:VTIMEZONE
TZID:Europe/Vienna
BEGIN:DAYLIGHT
TZOFFSETFROM:+0100
TZOFFSETTO:+0200
TZNAME:CEST
DTSTART:20240331T010000
END:DAYLIGHT
BEGIN:STANDARD
TZOFFSETFROM:+0200
TZOFFSETTO:+0100
TZNAME:CET
DTSTART:20241027T010000
END:STANDARD
BEGIN:DAYLIGHT
TZOFFSETFROM:+0100
TZOFFSETTO:+0200
TZNAME:CEST
DTSTART:20250330T010000
END:DAYLIGHT
BEGIN:STANDARD
TZOFFSETFROM:+0200
TZOFFSETTO:+0100
TZNAME:CET
DTSTART:20251026T010000
END:STANDARD
BEGIN:DAYLIGHT
TZOFFSETFROM:+0100
TZOFFSETTO:+0200
TZNAME:CEST
DTSTART:20260329T010000
END:DAYLIGHT
BEGIN:STANDARD
TZOFFSETFROM:+0200
TZOFFSETTO:+0100
TZNAME:CET
DTSTART:20261025T010000
END:STANDARD
BEGIN:DAYLIGHT
TZOFFSETFROM:+0100
TZOFFSETTO:+0200
TZNAME:CEST
DTSTART:20270328T010000
END:DAYLIGHT
BEGIN:STANDARD
TZOFFSETFROM:+0200
TZOFFSETTO:+0100
TZNAME:CET
DTSTART:20271031T010000
END:STANDARD
END:VTIMEZONE
BEGIN:VEVENT
DTSTART;TZID=Europe/Vienna:20260327T160000
DTEND;TZID=Europe/Vienna:20260327T173000
DTSTAMP:20260423T123622
CREATED:20260323T232335Z
LAST-MODIFIED:20260323T235215Z
UID:10007052-1774627200-1774632600@indian-balance.at
SUMMARY:Klangbad - Der Moment\, in dem du dir selbst begegnest
DESCRIPTION:Hör auf\, dir auszuweichen und begegne dir selbst.\nStill werden. Spüren. Erkennen\, was gerade ist.\nManchmal braucht es keinen neuen Impuls.Keine Antwort.Keine Veränderung. \nNur einen stillen Moment\, in dem du wahrnimmst:So ist es gerade. \nDas dritte Klangbad im Jahreskreis öffnet genau diesen Raum. \nWas dich erwartet:\n\nEhrliches Wahrnehmen\, ohne Druck\, ohne Bewertung\nGeführte Meditation getragen von Klang und Stille\nEin geschützter Kreis\, um dir selbst zu begegnen\n\nDu musst nichts verändern\, nur bereit sein\, den Moment wahrzunehmen\, in dem du aufhörst\, dir auszuweichen. \nFreitag\, 27.3.2026 16:00 – 17:30 Uhr Aschacherhof\, Bitte bring eine Matte und Decke mit \nUnkostenbeitrag €29\,- Vereinsmitglieder €15\,-
URL:https://indian-balance.at/event/klangbad-der-moment-in-dem-du-dir-selbst-begegnest/
LOCATION:Aschacherhof\, Hochfeldweg 23\, Graz\, Steiermark\, 8047\, Österreich
CATEGORIES:Kurs,Verein Bewegen & Beleben
ATTACH;FMTTYPE=image/jpeg:https://indian-balance.at/wp-content/uploads/2026/02/Klangbad-gueltiges-Dokument-Instagram-Post-3.jpg
GEO:47.0765556;15.5109999
X-APPLE-STRUCTURED-LOCATION;VALUE=URI;X-ADDRESS=Aschacherhof Hochfeldweg 23 Graz Steiermark 8047 Österreich;X-APPLE-RADIUS=500;X-TITLE=Hochfeldweg 23:geo:15.5109999,47.0765556
END:VEVENT
BEGIN:VEVENT
DTSTART;TZID=Europe/Vienna:20260228T130000
DTEND;TZID=Europe/Vienna:20260228T180000
DTSTAMP:20260423T123622
CREATED:20260125T232238Z
LAST-MODIFIED:20260125T233502Z
UID:10007026-1772283600-1772301600@indian-balance.at
SUMMARY:Osteoporose-Workshop - Stabilität auf drei Ebenen
DESCRIPTION:Körper bewegen – Geist stärken – Knochen nähren\nIn diesem ganzheitlichen Workshop erfährst du\, wie du Körper\, Geist und Knochen gezielt stärken kannst. \n\nSanfte\, alltagstaugliche Bewegungen fördern Stabilität und Balance\nMentale Impulse stärken Vertrauen und innere Sicherheit\nPraxisnahes Wissen zeigt dir\, wie Ernährung und Lebensstil deine Knochengesundheit unterstützen.\n\nWas dich erwartet\n\nBewegungseinheiten:\nSanfte\, alltagstaugliche Übungen verbessern Balance\, Stabilität und Beweglichkeit\, ganz ohne Überforderung.\nMentaltraining:\nStrategien zur Vorbeugung & Selbstfürsorge\nImpulse für Vertrauen\, innere Sicherheit und mentale Stärke helfen dir\, dich im Alltag stabiler zu fühlen.\nErnährungsinformationen:\nPraxisnahes Wissen zeigt\, wie Ernährung und Lebensstil deine Knochengesundheit unterstützen.\n\n  \nFür wen gedacht\nFür Frauen 40+\, die Stärke\, Sicherheit und Lebensqualität im Alltag suchen und das\, ohne Druck\, nur mit sanften\, effektiven Impulsen. \nSamstag\, 28.2.2026 13:00 – 18:00 Uhr Aschacherhof\, Bitte bring eine Matte  und bequeme Kleidung mit \nUnkostenbeitrag €59\,- Vereinsmitglieder €39\,-
URL:https://indian-balance.at/event/osteoporose-workshop-stabilitaet-auf-drei-ebenen/
LOCATION:Aschacherhof\, Hochfeldweg 23\, Graz\, Steiermark\, 8047\, Österreich
CATEGORIES:Kurs,Verein Bewegen & Beleben
ATTACH;FMTTYPE=image/png:https://indian-balance.at/wp-content/uploads/2026/01/e8814805-ff4e-40c4-8915-503f42b3a5c1.png
GEO:47.0765556;15.5109999
X-APPLE-STRUCTURED-LOCATION;VALUE=URI;X-ADDRESS=Aschacherhof Hochfeldweg 23 Graz Steiermark 8047 Österreich;X-APPLE-RADIUS=500;X-TITLE=Hochfeldweg 23:geo:15.5109999,47.0765556
END:VEVENT
BEGIN:VEVENT
DTSTART;TZID=Europe/Vienna:20260227T160000
DTEND;TZID=Europe/Vienna:20260227T173000
DTSTAMP:20260423T123622
CREATED:20260218T223220Z
LAST-MODIFIED:20260218T231748Z
UID:10007051-1772208000-1772213400@indian-balance.at
SUMMARY:Klangbad für deine Intuition - für deine Vision
DESCRIPTION:Klangbad\nFür deine Intuition. Für deine Vision.\nStill werden. Lauschen. Sehen.\nEs gibt eine Stimme in dir\, die leise ist.Sie drängt nicht. Sie ruft nicht laut.Aber sie weiß. \nIn diesem Klangbad betreten wir den Raum deiner Intuition\, deiner inneren Bilder – jenen Ort\, an dem deine Vision bereits lebt\, lange bevor sie sichtbar wird. \nGetragen von Klängen und sanften Schwingungen darf dein Geist still werden. In dieser Stille beginnt etwas aufzutauchen:Ein Gefühl.Ein Bild.Ein inneres Wissen. \nDu wirst daran erinnert\, dass deine Intuition kein Zufall ist – sondern deine Führung. \nDieses Klangbad ist eine Einladung\, den Lärm des Außen leiser zu drehen und wieder zu sehen\, was wirklich zählt. \nWas dich erwartet:\n\nTief entspannendes Klangbad mit sanften Klängen\nGeführte Meditation zur Stärkung deiner Intuition\nRaum für innere Bilder & Seelenimpulse\nEin geschützter Kreis für Klarheit & Ausrichtung\n\nWenn du spürst\, dass etwas in dir gesehen werden möchte – dann ist dieser Nachmittag für dich. \nFreitag\, 27.2.2026 16:00 – 17:30 Uhr Aschacherhof\, Bitte bring eine Matte und Decke mit \nUnkostenbeitrag €29\,- Vereinsmitglieder €15\,-
URL:https://indian-balance.at/event/klangbad-fuer-deine-intuition-fuer-deine-vision/
LOCATION:Aschacherhof\, Hochfeldweg 23\, Graz\, Steiermark\, 8047\, Österreich
CATEGORIES:Kurs,Verein Bewegen & Beleben
ATTACH;FMTTYPE=image/jpeg:https://indian-balance.at/wp-content/uploads/2026/02/Klangbad-gueltiges-Dokument-Instagram-Post-3.jpg
GEO:47.0765556;15.5109999
X-APPLE-STRUCTURED-LOCATION;VALUE=URI;X-ADDRESS=Aschacherhof Hochfeldweg 23 Graz Steiermark 8047 Österreich;X-APPLE-RADIUS=500;X-TITLE=Hochfeldweg 23:geo:15.5109999,47.0765556
END:VEVENT
BEGIN:VEVENT
DTSTART;TZID=Europe/Vienna:20260130T160000
DTEND;TZID=Europe/Vienna:20260130T173000
DTSTAMP:20260423T123622
CREATED:20260125T190642Z
LAST-MODIFIED:20260125T232506Z
UID:10007025-1769788800-1769794200@indian-balance.at
SUMMARY:Der klingende Jahreskreis - 13 Tore zur inneren Weisheit
DESCRIPTION:Ein Jahr. Dreizehn Klänge. \nUnd die Rückkehr ins Wesentliche.\nDu bist eingeladen\, ein Jahr lang in einen Raum einzutreten\, der nichts von dir will – außer deine Anwesenheit. \nEinmal im Monat öffnet sich ein Kreis.Kein Kurs. Kein Ziel. Keine Optimierung.Sondern ein Klangraum\, der dich erinnert. \n\nAn deine innere Wahrheit.\nAn deinen Rhythmus.\nAn das\, was längst in dir weiß.\n\nWir folgen dem dem natürlichen Jahreskreis:den Qualitäten der Zeit\, den archetypischen Kräften\, den Übergängen des Lebens.Jeder Monat steht unter einem eigenen Thema\, getragen von Klang\, Stille und einer geführten Meditation. \nJedes der Klangbäder ist eine Einladung zum Innehalten. Zum Lauschen. Zum Heimkommen. \n\nDu musst nichts können.\nDu musst nichts wissen.\nDu musst nichts „lösen“.\n\nDu darfst einfach da sein und dich erinnern\, wer du bist\, wenn alles Überflüssige still wird. \n\nStill werden. Klar werden. Neu werden.\nIn der Tiefe des Winters liegt ein besonderer Zauber\, die Einladung\, dich neu auszurichten. \nIn dieser meditativen Klangreise darfst du loslassen\, was war und dich öffnen für das\, was kommen darf.Getragen von Klängen\, Stille und einem geschützten Raum findest du zurück zu deiner Mitte und zu dem\, was in dir neu werden will. \nFreitag\, 30.1.2026 16:00 – 17:30 Uhr Aschacherhof\, Bitte bring eine Matte und Decke mit \nUnkostenbeitrag €35\,- Vereinsmitglieder €15\,-
URL:https://indian-balance.at/event/der-klingende-jahreskreis-13-tore-zur-inneren-weisheit/
LOCATION:Aschacherhof\, Hochfeldweg 23\, Graz\, Steiermark\, 8047\, Österreich
CATEGORIES:Kurs,Verein Bewegen & Beleben
ATTACH;FMTTYPE=image/png:https://indian-balance.at/wp-content/uploads/2026/01/ChatGPT-Image-25.-Jan.-2026-16_53_06.png
GEO:47.0765556;15.5109999
X-APPLE-STRUCTURED-LOCATION;VALUE=URI;X-ADDRESS=Aschacherhof Hochfeldweg 23 Graz Steiermark 8047 Österreich;X-APPLE-RADIUS=500;X-TITLE=Hochfeldweg 23:geo:15.5109999,47.0765556
END:VEVENT
BEGIN:VEVENT
DTSTART;TZID=Europe/Vienna:20251212T150000
DTEND;TZID=Europe/Vienna:20251212T180000
DTSTAMP:20260423T123622
CREATED:20251127T212656Z
LAST-MODIFIED:20251127T212928Z
UID:10007012-1765551600-1765562400@indian-balance.at
SUMMARY:Klang & Rauch - Tiefenreise zu dir selbst
DESCRIPTION:Klang & Rauch – Tiefenreise zu dir selbst\nKlangentspannung\, Atem- & Räucherritual mit heimischen Pflanzen \nStell dir vor\, die Welt draußen wird leiser – und alles\, was noch zählt\, ist dein Atem\, sanfte Klänge und der feine Duft von Kräutern. \nIn diesen 3 Stunden schenkst du dir eine Pause vom „Funktionieren“.Klangschalen und Klanginstrumente bringen deinen Körper zum Schwingen\, bewusste Atemübungen holen dich aus dem Kopf zurück in deinen Körper – und ein achtsames Räucherritual mit 3×3 heimischen Räucherpflanzen hilft dir\, Ballast loszulassen und innerlich klar zu werden. \nDein Kopf darf Urlaub machen. Dein Körper sich entspannen. Deine Seele “baumeln”. \nDieser Workshop ist für dich\, wenn du: \n\ndich nach Tiefe statt nur Wellness sehnst\ninnerlich oft „unter Strom“ stehst und dir echte Entspannung wünschst\nRituale\, Natur und feine Energiearbeit liebst\nneugierig auf heimische Räucherpflanzen bist\nwieder deutlicher spüren möchtest: „Da bin ich. Das bin ich.“\n\nWas dich erwartet\nKlangschalenentspannung – dein Körper darf loslassen\nKlangschalen und Klanginstrumente  werden sanft gespielt\, während du bequem liegst.Die Vibrationen breiten sich im ganzen Körper aus\, lösen Spannungen und bringen deine Systeme in Harmonie. Du musst nichts tun. Der Klang arbeitet für dich. \nAtemübungen – Brücke zwischen Kopf und Körper\nEinfache\, geführte Atemübungen bringen dich ins Hier & Jetzt.Du lernst\, wie dein Atem dir hilft\, dein Nervensystem zu beruhigen und dich selbst wieder klarer wahrzunehmen. Kein „Atem-Yoga für Profis“\, sondern liebevolle Basics\, die du mit nach Hause nehmen kannst. \nRäuchermeditation – 3×3 heimische Räucherpflanzen\nIn einem achtsamen Räucherritual arbeiten wir mit neun heimischen Pflanzen & Harzen\, in drei Mischungen. Jede Mischung steht für eine bestimmte Qualität: \n\nErdung & Schutz\nHerzöffnung & Geborgenheit\nKlarheit & innere Ausrichtung\n\nMit jeder Mischung gehen wir in eine kurze\, geführte Meditation:Zuerst ankommen und erden\, dann das Herz weiten\, schließlich den Blick nach vorne ausrichten. Der Rauch wird zum sichtbaren Symbol für das\, was du loslassen möchtest – und für das\, was du neu in dein Leben einlädst. \nKurzer Austausch: „Das nehme ich mit” und Ausklang mit Kräutertee. \nFreitag\, 12.12.2025 15:00 – 18:00 Uhr Aschacherhof\, Bitte bring eine Matte und Decke mit \nUnkostenbeitrag €35\,- Vereinsmitglieder €15\,-
URL:https://indian-balance.at/event/klang-und-rauch-tiefnreise-zu-dir-selbst/
LOCATION:Aschacherhof\, Hochfeldweg 23\, Graz\, Steiermark\, 8047\, Österreich
CATEGORIES:Kurs,Verein Bewegen & Beleben
ATTACH;FMTTYPE=image/jpeg:https://indian-balance.at/wp-content/uploads/2025/11/Depositphotos_423170222_XL-scaled.jpg
GEO:47.0765556;15.5109999
X-APPLE-STRUCTURED-LOCATION;VALUE=URI;X-ADDRESS=Aschacherhof Hochfeldweg 23 Graz Steiermark 8047 Österreich;X-APPLE-RADIUS=500;X-TITLE=Hochfeldweg 23:geo:15.5109999,47.0765556
END:VEVENT
BEGIN:VEVENT
DTSTART;TZID=Europe/Vienna:20250913T081500
DTEND;TZID=Europe/Vienna:20250913T100000
DTSTAMP:20260423T123622
CREATED:20250905T084329Z
LAST-MODIFIED:20250905T105023Z
UID:10007011-1757751300-1757757600@indian-balance.at
SUMMARY:Zurück zur Quelle - Klangbad und Meditation
DESCRIPTION:Wenn du dich kraftlos\, zerstreut oder vom Alltag überrollt fühlst\, dann ist es Zeit\, zur Quelle zurückzukehren – zu deinem Ursprung\, deiner Mitte\, deiner inneren Kraft. \nAn einem der ursprünglichsten Orte rund um Graz – den Quellen in St. Radegund – laden wir dich ein zu einer Morgen-Klangmeditation\, die dich sanft ausrichtet\, nährt und stärkt. \nIm Klang\, in der Stille\, im Atmen findest du zurück zu dir.Dort\, wo alles beginnt: In deinem Innersten. \nSpüre die Kraft der Stille. Finde zurück in deine Mitte. \n13. 9. 2025 8:15 Uhr Treffpunkt Talstation St. Radegund bei GrazBitte bring eine Matte oder Unterlage mit \nTeilnahme auf Spendenbasis
URL:https://indian-balance.at/event/zurueck-zur-quelle-klangbad-und-meditation/
LOCATION:Schöckl Seilbahn Talstation\, Schöcklstraße 23\, St. Radegund\, 8061\, Österreich
CATEGORIES:Kurs,Verein Bewegen & Beleben
ATTACH;FMTTYPE=image/jpeg:https://indian-balance.at/wp-content/uploads/2022/08/IMG_5142-scaled-e1660805777484.jpeg
GEO:47.1858551;15.4857242
X-APPLE-STRUCTURED-LOCATION;VALUE=URI;X-ADDRESS=Schöckl Seilbahn Talstation Schöcklstraße 23 St. Radegund 8061 Österreich;X-APPLE-RADIUS=500;X-TITLE=Schöcklstraße 23:geo:15.4857242,47.1858551
END:VEVENT
BEGIN:VEVENT
DTSTART;TZID=Europe/Vienna:20250823T081500
DTEND;TZID=Europe/Vienna:20250823T100000
DTSTAMP:20260423T123622
CREATED:20250807T110242Z
LAST-MODIFIED:20250808T075111Z
UID:10007008-1755936900-1755943200@indian-balance.at
SUMMARY:Klangbad und Meditation
DESCRIPTION:In der Stille des Morgens\, umgeben vom Murmeln des Wassers\, sanften Klängen und Vogelstimmen starten wir in den Tag an einem Ort\, der dich erinnert\, wo du wirklich herkommst: aus deiner inneren Quelle. \nDiese Klang-Meditation an den Quellen in St. Radegund bei Graz ist eine Einladung\, ganz in deinen Fluss zu kommen – ruhig\, klar\, verbunden. \nLos lassen\, was dich hält. Spüren\, was dich trägt. Beginne den Tag in dir verankert.
URL:https://indian-balance.at/event/klangbad-und-meditation/
LOCATION:Schöckl Seilbahn Talstation\, Schöcklstraße 23\, St. Radegund\, 8061\, Österreich
CATEGORIES:Kurs,Verein Bewegen & Beleben
ATTACH;FMTTYPE=image/jpeg:https://indian-balance.at/wp-content/uploads/2022/08/IMG_5142-scaled-e1660805777484.jpeg
GEO:47.1858551;15.4857242
X-APPLE-STRUCTURED-LOCATION;VALUE=URI;X-ADDRESS=Schöckl Seilbahn Talstation Schöcklstraße 23 St. Radegund 8061 Österreich;X-APPLE-RADIUS=500;X-TITLE=Schöcklstraße 23:geo:15.4857242,47.1858551
END:VEVENT
END:VCALENDAR