BEGIN:VCALENDAR
VERSION:2.0
PRODID:-//Bewegen &amp; Beleben - ECPv6.15.20//NONSGML v1.0//EN
CALSCALE:GREGORIAN
METHOD:PUBLISH
X-WR-CALNAME:Bewegen &amp; Beleben
X-ORIGINAL-URL:https://indian-balance.at
X-WR-CALDESC:Veranstaltungen für Bewegen &amp; Beleben
REFRESH-INTERVAL;VALUE=DURATION:PT1H
X-Robots-Tag:noindex
X-PUBLISHED-TTL:PT1H
BEGIN:VTIMEZONE
TZID:Europe/Vienna
BEGIN:DAYLIGHT
TZOFFSETFROM:+0100
TZOFFSETTO:+0200
TZNAME:CEST
DTSTART:20220327T010000
END:DAYLIGHT
BEGIN:STANDARD
TZOFFSETFROM:+0200
TZOFFSETTO:+0100
TZNAME:CET
DTSTART:20221030T010000
END:STANDARD
BEGIN:DAYLIGHT
TZOFFSETFROM:+0100
TZOFFSETTO:+0200
TZNAME:CEST
DTSTART:20230326T010000
END:DAYLIGHT
BEGIN:STANDARD
TZOFFSETFROM:+0200
TZOFFSETTO:+0100
TZNAME:CET
DTSTART:20231029T010000
END:STANDARD
BEGIN:DAYLIGHT
TZOFFSETFROM:+0100
TZOFFSETTO:+0200
TZNAME:CEST
DTSTART:20240331T010000
END:DAYLIGHT
BEGIN:STANDARD
TZOFFSETFROM:+0200
TZOFFSETTO:+0100
TZNAME:CET
DTSTART:20241027T010000
END:STANDARD
BEGIN:DAYLIGHT
TZOFFSETFROM:+0100
TZOFFSETTO:+0200
TZNAME:CEST
DTSTART:20250330T010000
END:DAYLIGHT
BEGIN:STANDARD
TZOFFSETFROM:+0200
TZOFFSETTO:+0100
TZNAME:CET
DTSTART:20251026T010000
END:STANDARD
END:VTIMEZONE
BEGIN:VEVENT
DTSTART;TZID=Europe/Vienna:20240517T080000
DTEND;TZID=Europe/Vienna:20240527T170000
DTSTAMP:20260422T192012
CREATED:20230801T090519Z
LAST-MODIFIED:20231119T082136Z
UID:10006083-1715932800-1716829200@indian-balance.at
SUMMARY:Transformation durch schamanische Weisheit
DESCRIPTION:
URL:https://indian-balance.at/event/transformation-durch-schamanische-weisheit/
LOCATION:https://zaglav.hr/en/restourant/\, Punta 1\, Martinšćica\, Otok Cres
CATEGORIES:Munayk
ATTACH;FMTTYPE=image/jpeg:https://indian-balance.at/wp-content/uploads/2023/08/8283d9ac-3b51-4ff8-87d6-7ccac5b2de76.jpg
ORGANIZER;CN="Earth Keepers Spirit":MAILTO:barbara@akademie.indian-balance.at
GEO:44.8195083;14.3517375
X-APPLE-STRUCTURED-LOCATION;VALUE=URI;X-ADDRESS=https://zaglav.hr/en/restourant/ Punta 1 Martinšćica Otok Cres;X-APPLE-RADIUS=500;X-TITLE=Punta 1:geo:14.3517375,44.8195083
END:VEVENT
BEGIN:VEVENT
DTSTART;TZID=Europe/Vienna:20230902T080000
DTEND;TZID=Europe/Vienna:20231202T170000
DTSTAMP:20260422T192012
CREATED:20230801T082443Z
LAST-MODIFIED:20230801T084712Z
UID:10006081-1693641600-1701536400@indian-balance.at
SUMMARY:Munay-Ki Jouney of Personal Healing Onlinetraining 2.9. bis 2. 12. 2023
DESCRIPTION:
URL:https://indian-balance.at/event/munay-ki-jouney-of-personal-healing-onlinetraining-2-9-bis-2-12-2023/
CATEGORIES:Munayk
ATTACH;FMTTYPE=image/png:https://indian-balance.at/wp-content/uploads/2022/08/image.png
ORGANIZER;CN="Earth Keepers Spirit":MAILTO:barbara@akademie.indian-balance.at
LOCATION:
END:VEVENT
BEGIN:VEVENT
DTSTART;TZID=Europe/Vienna:20230519T170000
DTEND;TZID=Europe/Vienna:20230529T190000
DTSTAMP:20260422T192012
CREATED:20221112T021543Z
LAST-MODIFIED:20230416T174806Z
UID:10006055-1684515600-1685386800@indian-balance.at
SUMMARY:Munay-Ki Deine persönliche Heilreise 19.-29.5.2023
DESCRIPTION:Munay-Ki ist eine Sammlung von Weisheiten\, die Dr. Alberto Villoldo von seinen Mentoren in den Anden\, im Dschungel und an der Küste Perus geschenkt bekam und die er modifiziert und an unsere moderne Art des Lernens und Heilens angepasst hat. Munay-Ki ist ein Quechua-Konzept\, das die “Kraft der Liebe” bedeutet und sich auf die bedingungslose Liebe bezieht\, durch die wir unser Leben als Teil des Netzwerks des Lebens in uns und um uns herum leben. \nMunay-Ki – Deine persönliche Heilreise\n\nDir werden 10 Riten des Munay-Ki übertragen\, die dein Energiefeld heben und deine energetische\, geistig-emotionale und körperliche Gesundheit weiterhin unterstützen\, während du die Samen der Riten nähren und wachsen lässt.\nDu entwickelst deine täglichen Rituale\, die dich beim Nähren und Wachsen lassen der Munay-Ki Energie unterstützen.\nDu wirst erfahren\, wie du dich mit der Abstammungs-Linie der Medizinleute verbindest\, die Dich auf deiner Heilreise begleiten.\n\nWeiter zu Details \nFinde uns auch auf www.lebe-bewusst.at
URL:https://indian-balance.at/event/munay-ki-deine-persoenliche-heilreise-05-2023/
LOCATION:Camping Kumberg\, Seeweg 2a\, Kumberg\, Steiermark\, 8062\, Österreich
CATEGORIES:Ausbildung,Munayk
ATTACH;FMTTYPE=image/png:https://indian-balance.at/wp-content/uploads/2023/03/Banner_2023_03_07_Munay-Ki1.png
ORGANIZER;CN="Earth Keepers Spirit":MAILTO:barbara@akademie.indian-balance.at
GEO:47.1596526;15.5460962
X-APPLE-STRUCTURED-LOCATION;VALUE=URI;X-ADDRESS=Camping Kumberg Seeweg 2a Kumberg Steiermark 8062 Österreich;X-APPLE-RADIUS=500;X-TITLE=Seeweg 2a:geo:15.5460962,47.1596526
END:VEVENT
BEGIN:VEVENT
DTSTART;TZID=Europe/Vienna:20230519T170000
DTEND;TZID=Europe/Vienna:20230524T200000
DTSTAMP:20260422T192012
CREATED:20230308T000025Z
LAST-MODIFIED:20230416T181457Z
UID:10006069-1684515600-1684958400@indian-balance.at
SUMMARY:Munay-Ki Basis-Riten 19.-24.5.2023
DESCRIPTION:Munay-Ki drückt in Quechua “Kraft der Liebe” aus. Munay ist die bedingungslose Liebe\, die wir alle haben\, wenn wir unser Herz öffnen. \nMunay stellt auch die Liebe der Pachamama für alle ihre Kinder dar! \nKi bedeutet in Quechua die Kraft\, sich zu manifestieren. Um Munay zu manifestieren\, begeben wir uns auf eine Reise der persönlichen Heilung\, und während wir heilen\, verwandeln wir unseren Schmerz und unser Leiden in Mitgefühl\, Selbst- und Nächstenliebe. \n\n\n\nDie Basis-Riten des Munay-Ki weihen uns in diese evolutionäre Reise ein\, indem sie: \n\nUnseren inneren Heiler erwecken\nUnser Energiefeld verstärken\n\nDu möchtest mehr zur Veranstaltung 19.-24.5.2023 wissen? \n\n\n\n\n\n\nFinde uns auf www.lebe-bewusst.at
URL:https://indian-balance.at/event/munay-ki-basisriten-19-24-5-2023/
LOCATION:Camping Kumberg\, Seeweg 2a\, Kumberg\, Steiermark\, 8062\, Österreich
CATEGORIES:Ausbildung,Munayk
ATTACH;FMTTYPE=image/jpeg:https://indian-balance.at/wp-content/uploads/2023/03/b54b0ef3-7e20-4b49-aa7f-196c6248de51-1.jpg
ORGANIZER;CN="Earth Keepers Spirit":MAILTO:barbara@akademie.indian-balance.at
GEO:47.1596526;15.5460962
X-APPLE-STRUCTURED-LOCATION;VALUE=URI;X-ADDRESS=Camping Kumberg Seeweg 2a Kumberg Steiermark 8062 Österreich;X-APPLE-RADIUS=500;X-TITLE=Seeweg 2a:geo:15.5460962,47.1596526
END:VEVENT
BEGIN:VEVENT
DTSTART;TZID=Europe/Vienna:20230519T170000
DTEND;TZID=Europe/Vienna:20230521T170000
DTSTAMP:20260422T192012
CREATED:20230307T234652Z
LAST-MODIFIED:20230416T175634Z
UID:10006068-1684515600-1684688400@indian-balance.at
SUMMARY:Traditionelle Rituale nach Sun Bear & Wind Daughter 19.-21.5.2023
DESCRIPTION:19.5.2023  \nDespacho-Ritual bei dem die Sacred Community Pipe (traditionell nach Sun Bear und Wind Daughter) geraucht wird. \n20.5.2023 \nGemeinsames Bauen der Schwitzhütte und Schwitzhüttenzeremonie. \n21.5.2023 \nBau des Medizinrades und Erweckung des inneren Heilers durch Hampe Karpay (1. Munay-Ki-Ritual). \n19.5.-21.5.2023 freiwillige Spende \n\n\nDu möchtest mehr zur Veranstaltung 19.-21.5.2023 wissen?\n\nFinde uns auf www.lebe-bewusst.at
URL:https://indian-balance.at/event/traditionelle-rituale-nach-sun-bear-wind-daughter-19-21-5-2023/
LOCATION:Camping Kumberg\, Seeweg 2a\, Kumberg\, Steiermark\, 8062\, Österreich
CATEGORIES:Ausbildung,Munayk
ATTACH;FMTTYPE=image/webp:https://indian-balance.at/wp-content/uploads/2023/02/Sacred-Herbs.jpg.webp
ORGANIZER;CN="Earth Keepers Spirit":MAILTO:barbara@akademie.indian-balance.at
GEO:47.1596526;15.5460962
X-APPLE-STRUCTURED-LOCATION;VALUE=URI;X-ADDRESS=Camping Kumberg Seeweg 2a Kumberg Steiermark 8062 Österreich;X-APPLE-RADIUS=500;X-TITLE=Seeweg 2a:geo:15.5460962,47.1596526
END:VEVENT
BEGIN:VEVENT
DTSTART;TZID=Europe/Vienna:20230309T190000
DTEND;TZID=Europe/Vienna:20230309T203000
DTSTAMP:20260422T192012
CREATED:20230305T234757Z
LAST-MODIFIED:20230308T210413Z
UID:10006067-1678388400-1678393800@indian-balance.at
SUMMARY:Webinar Munay-Ki Deine persönliche Heilreise 05-2023
DESCRIPTION:Am Webinar gratis teilnehmen\nFinde uns auch auf www.lebe-bewusst.at
URL:https://indian-balance.at/event/webinar-munay-ki-deine-persoenliche-heilreise-05-2023/
ATTACH;FMTTYPE=image/jpeg:https://indian-balance.at/wp-content/uploads/2023/03/Munay-Ki-Deine-persoenliche-Heilreise-19.-bis-29.-Mai-2023-Naehe-Graz-Oesterreich-3.jpg
ORGANIZER;CN="Earth Keepers Spirit":MAILTO:barbara@akademie.indian-balance.at
LOCATION:https://cornell.zoom.us/j/94416343997?pwd=T2FDUVZ6RkI0V0p3UENUeFRRU0FlUT09#success
END:VEVENT
END:VCALENDAR