BEGIN:VCALENDAR
VERSION:2.0
PRODID:-//Bewegen &amp; Beleben - ECPv6.15.20//NONSGML v1.0//EN
CALSCALE:GREGORIAN
METHOD:PUBLISH
X-ORIGINAL-URL:https://indian-balance.at
X-WR-CALDESC:Veranstaltungen für Bewegen &amp; Beleben
REFRESH-INTERVAL;VALUE=DURATION:PT1H
X-Robots-Tag:noindex
X-PUBLISHED-TTL:PT1H
BEGIN:VTIMEZONE
TZID:Europe/Berlin
BEGIN:DAYLIGHT
TZOFFSETFROM:+0100
TZOFFSETTO:+0200
TZNAME:CEST
DTSTART:20170326T010000
END:DAYLIGHT
BEGIN:STANDARD
TZOFFSETFROM:+0200
TZOFFSETTO:+0100
TZNAME:CET
DTSTART:20171029T010000
END:STANDARD
BEGIN:DAYLIGHT
TZOFFSETFROM:+0100
TZOFFSETTO:+0200
TZNAME:CEST
DTSTART:20180325T010000
END:DAYLIGHT
BEGIN:STANDARD
TZOFFSETFROM:+0200
TZOFFSETTO:+0100
TZNAME:CET
DTSTART:20181028T010000
END:STANDARD
BEGIN:DAYLIGHT
TZOFFSETFROM:+0100
TZOFFSETTO:+0200
TZNAME:CEST
DTSTART:20190331T010000
END:DAYLIGHT
BEGIN:STANDARD
TZOFFSETFROM:+0200
TZOFFSETTO:+0100
TZNAME:CET
DTSTART:20191027T010000
END:STANDARD
END:VTIMEZONE
BEGIN:VEVENT
DTSTART;TZID=Europe/Berlin:20181115T190000
DTEND;TZID=Europe/Berlin:20181115T200000
DTSTAMP:20260423T235819
CREATED:20181106T195823Z
LAST-MODIFIED:20181106T195823Z
UID:10005843-1542308400-1542312000@indian-balance.at
SUMMARY:Wochenkurs IB sportiv
DESCRIPTION:Dieser Wochenkurs eignet sich besonders für sportlich ambitionierte TeilnehmerInnen! \nIndian Balance ® ist ein ganzheitliches Training mit indianischen Wurzeln. Es stellt eine Kombination aus fließenden Bewegungen\, Muskelkontraktionen und bewusster Atmung dar. \nDas Training mit Indian-Balance® setzt innere Energie frei\, schärft die Körperwahrnehmung\, schult die Beweglichkeit\, strafft die Muskeln\, verbessert die Koordination und kräftigt Rücken\, Bauch\, Beine und Po. Gleichzeitig wir der Geist regeneriert\, Stress wird abgebaut und Entspannung verbessert. \nDurch eigens komponierte Indian-Balance® Musik wird eine intensive Verbindung zu den einzelnen Übungen hergestellt und der Kopf wird dabei frei.
URL:https://indian-balance.at/event/wochenkurs-ib-sportiv-3/2018-11-15/
LOCATION:Bewegungsraum im Gemeindehaus Weinitzen\, Kirchplatz 4\, Weinitzen\, 8044\, Österreich
ATTACH;FMTTYPE=image/jpeg:https://indian-balance.at/wp-content/uploads/2018/10/Susi-NitaShem-für-Homepage-1.jpg
ORGANIZER;CN="Susanne Renner-Hinteregger":MAILTO:Shinteregger@gmx.net
GEO:47.1402528;15.4903465
X-APPLE-STRUCTURED-LOCATION;VALUE=URI;X-ADDRESS=Bewegungsraum im Gemeindehaus Weinitzen Kirchplatz 4 Weinitzen 8044 Österreich;X-APPLE-RADIUS=500;X-TITLE=Kirchplatz 4:geo:15.4903465,47.1402528
END:VEVENT
BEGIN:VEVENT
DTSTART;TZID=Europe/Berlin:20181115T190000
DTEND;TZID=Europe/Berlin:20181115T200000
DTSTAMP:20260423T235819
CREATED:20181106T195151Z
LAST-MODIFIED:20181106T195151Z
UID:10005782-1542308400-1542312000@indian-balance.at
SUMMARY:Wochenkurs IB sportiv
DESCRIPTION:Dieser Wochenkurs eignet sich besonders für sportlich ambitionierte TeilnehmerInnen!\nIndian Balance ® ist ein ganzheitliches Training mit indianischen Wurzeln. Es stellt eine Kombination aus fließenden Bewegungen\, Muskelkontraktionen und bewusster Atmung dar. \nDas Training mit Indian-Balance® setzt innere Energie frei\, schärft die Körperwahrnehmung\, schult die Beweglichkeit\, strafft die Muskeln\, verbessert die Koordination und kräftigt Rücken\, Bauch\, Beine und Po. Gleichzeitig wir der Geist regeneriert\, Stress wird abgebaut und Entspannung verbessert. \nDurch eigens komponierte Indian-Balance® Musik wird eine intensive Verbindung zu den einzelnen Übungen hergestellt und der Kopf wird dabei frei.
URL:https://indian-balance.at/event/wochenkurs-ib-sportiv-2/2018-11-15/
LOCATION:Bewegungsraum im Gemeindehaus Weinitzen\, Kirchplatz 4\, Weinitzen\, 8044\, Österreich
ATTACH;FMTTYPE=image/jpeg:https://indian-balance.at/wp-content/uploads/2018/10/Susi-NitaShem-für-Homepage.jpg
ORGANIZER;CN="Susanne Renner-Hinteregger":MAILTO:Shinteregger@gmx.net
GEO:47.1402528;15.4903465
X-APPLE-STRUCTURED-LOCATION;VALUE=URI;X-ADDRESS=Bewegungsraum im Gemeindehaus Weinitzen Kirchplatz 4 Weinitzen 8044 Österreich;X-APPLE-RADIUS=500;X-TITLE=Kirchplatz 4:geo:15.4903465,47.1402528
END:VEVENT
BEGIN:VEVENT
DTSTART;TZID=Europe/Berlin:20180927T190000
DTEND;TZID=Europe/Berlin:20180927T200000
DTSTAMP:20260423T235819
CREATED:20181106T195823Z
LAST-MODIFIED:20181106T195823Z
UID:10005842-1538074800-1538078400@indian-balance.at
SUMMARY:Wochenkurs IB sportiv
DESCRIPTION:Dieser Wochenkurs eignet sich besonders für sportlich ambitionierte TeilnehmerInnen! \nIndian Balance ® ist ein ganzheitliches Training mit indianischen Wurzeln. Es stellt eine Kombination aus fließenden Bewegungen\, Muskelkontraktionen und bewusster Atmung dar. \nDas Training mit Indian-Balance® setzt innere Energie frei\, schärft die Körperwahrnehmung\, schult die Beweglichkeit\, strafft die Muskeln\, verbessert die Koordination und kräftigt Rücken\, Bauch\, Beine und Po. Gleichzeitig wir der Geist regeneriert\, Stress wird abgebaut und Entspannung verbessert. \nDurch eigens komponierte Indian-Balance® Musik wird eine intensive Verbindung zu den einzelnen Übungen hergestellt und der Kopf wird dabei frei.
URL:https://indian-balance.at/event/wochenkurs-ib-sportiv-3/2018-09-27/
LOCATION:Bewegungsraum im Gemeindehaus Weinitzen\, Kirchplatz 4\, Weinitzen\, 8044\, Österreich
ATTACH;FMTTYPE=image/jpeg:https://indian-balance.at/wp-content/uploads/2018/10/Susi-NitaShem-für-Homepage-1.jpg
ORGANIZER;CN="Susanne Renner-Hinteregger":MAILTO:Shinteregger@gmx.net
GEO:47.1402528;15.4903465
X-APPLE-STRUCTURED-LOCATION;VALUE=URI;X-ADDRESS=Bewegungsraum im Gemeindehaus Weinitzen Kirchplatz 4 Weinitzen 8044 Österreich;X-APPLE-RADIUS=500;X-TITLE=Kirchplatz 4:geo:15.4903465,47.1402528
END:VEVENT
BEGIN:VEVENT
DTSTART;TZID=Europe/Berlin:20180927T190000
DTEND;TZID=Europe/Berlin:20180927T200000
DTSTAMP:20260423T235819
CREATED:20181106T195151Z
LAST-MODIFIED:20181106T195151Z
UID:10005781-1538074800-1538078400@indian-balance.at
SUMMARY:Wochenkurs IB sportiv
DESCRIPTION:Dieser Wochenkurs eignet sich besonders für sportlich ambitionierte TeilnehmerInnen!\nIndian Balance ® ist ein ganzheitliches Training mit indianischen Wurzeln. Es stellt eine Kombination aus fließenden Bewegungen\, Muskelkontraktionen und bewusster Atmung dar. \nDas Training mit Indian-Balance® setzt innere Energie frei\, schärft die Körperwahrnehmung\, schult die Beweglichkeit\, strafft die Muskeln\, verbessert die Koordination und kräftigt Rücken\, Bauch\, Beine und Po. Gleichzeitig wir der Geist regeneriert\, Stress wird abgebaut und Entspannung verbessert. \nDurch eigens komponierte Indian-Balance® Musik wird eine intensive Verbindung zu den einzelnen Übungen hergestellt und der Kopf wird dabei frei.
URL:https://indian-balance.at/event/wochenkurs-ib-sportiv-2/2018-09-27/
LOCATION:Bewegungsraum im Gemeindehaus Weinitzen\, Kirchplatz 4\, Weinitzen\, 8044\, Österreich
ATTACH;FMTTYPE=image/jpeg:https://indian-balance.at/wp-content/uploads/2018/10/Susi-NitaShem-für-Homepage.jpg
ORGANIZER;CN="Susanne Renner-Hinteregger":MAILTO:Shinteregger@gmx.net
GEO:47.1402528;15.4903465
X-APPLE-STRUCTURED-LOCATION;VALUE=URI;X-ADDRESS=Bewegungsraum im Gemeindehaus Weinitzen Kirchplatz 4 Weinitzen 8044 Österreich;X-APPLE-RADIUS=500;X-TITLE=Kirchplatz 4:geo:15.4903465,47.1402528
END:VEVENT
BEGIN:VEVENT
DTSTART;TZID=Europe/Berlin:20180705T183000
DTEND;TZID=Europe/Berlin:20180705T193000
DTSTAMP:20260423T235819
CREATED:20180613T090523Z
LAST-MODIFIED:20180613T092908Z
UID:10005387-1530815400-1530819000@indian-balance.at
SUMMARY:Wochenkurs IB sportiv
DESCRIPTION:Dieser Wochenkurs eignet sich besonders für sportlich ambitionierte TeilnehmerInnen!\nIndian Balance ® ist ein ganzheitliches Training mit indianischen Wurzeln. Es stellt eine Kombination aus fließenden Bewegungen\, Muskelkontraktionen und bewusster Atmung dar. \nDas Training mit Indian-Balance® setzt innere Energie frei\, schärft die Körperwahrnehmung\, schult die Beweglichkeit\, strafft die Muskeln\, verbessert die Koordination und kräftigt Rücken\, Bauch\, Beine und Po. Gleichzeitig wir der Geist regeneriert\, Stress wird abgebaut und Entspannung verbessert. \nDurch eigens komponierte Indian-Balance® Musik wird eine intensive Verbindung zu den einzelnen Übungen hergestellt und der Kopf wird dabei frei. \n\n 
URL:https://indian-balance.at/event/wochenkurs-ib-sportiv/2018-07-05/
LOCATION:Turnsaal KG Weinitzen\, Niederschöcklstraße 44\, Weinitzen\, Steiermark\, 8044\, Österreich
CATEGORIES:Instructor,Kurs
ATTACH;FMTTYPE=image/jpeg:https://indian-balance.at/wp-content/uploads/2018/06/Susi-NitaShem-für-Homepage-1.jpg
ORGANIZER;CN="Susanne Renner-Hinteregger":MAILTO:Shinteregger@gmx.net
GEO:47.1419919;15.4974948
X-APPLE-STRUCTURED-LOCATION;VALUE=URI;X-ADDRESS=Turnsaal KG Weinitzen Niederschöcklstraße 44 Weinitzen Steiermark 8044 Österreich;X-APPLE-RADIUS=500;X-TITLE=Niederschöcklstraße 44:geo:15.4974948,47.1419919
END:VEVENT
BEGIN:VEVENT
DTSTART;TZID=Europe/Berlin:20180628T183000
DTEND;TZID=Europe/Berlin:20180628T193000
DTSTAMP:20260423T235819
CREATED:20180613T090523Z
LAST-MODIFIED:20180613T092908Z
UID:10005386-1530210600-1530214200@indian-balance.at
SUMMARY:Wochenkurs IB sportiv
DESCRIPTION:Dieser Wochenkurs eignet sich besonders für sportlich ambitionierte TeilnehmerInnen!\nIndian Balance ® ist ein ganzheitliches Training mit indianischen Wurzeln. Es stellt eine Kombination aus fließenden Bewegungen\, Muskelkontraktionen und bewusster Atmung dar. \nDas Training mit Indian-Balance® setzt innere Energie frei\, schärft die Körperwahrnehmung\, schult die Beweglichkeit\, strafft die Muskeln\, verbessert die Koordination und kräftigt Rücken\, Bauch\, Beine und Po. Gleichzeitig wir der Geist regeneriert\, Stress wird abgebaut und Entspannung verbessert. \nDurch eigens komponierte Indian-Balance® Musik wird eine intensive Verbindung zu den einzelnen Übungen hergestellt und der Kopf wird dabei frei. \n\n 
URL:https://indian-balance.at/event/wochenkurs-ib-sportiv/2018-06-28/
LOCATION:Turnsaal KG Weinitzen\, Niederschöcklstraße 44\, Weinitzen\, Steiermark\, 8044\, Österreich
CATEGORIES:Instructor,Kurs
ATTACH;FMTTYPE=image/jpeg:https://indian-balance.at/wp-content/uploads/2018/06/Susi-NitaShem-für-Homepage-1.jpg
ORGANIZER;CN="Susanne Renner-Hinteregger":MAILTO:Shinteregger@gmx.net
GEO:47.1419919;15.4974948
X-APPLE-STRUCTURED-LOCATION;VALUE=URI;X-ADDRESS=Turnsaal KG Weinitzen Niederschöcklstraße 44 Weinitzen Steiermark 8044 Österreich;X-APPLE-RADIUS=500;X-TITLE=Niederschöcklstraße 44:geo:15.4974948,47.1419919
END:VEVENT
BEGIN:VEVENT
DTSTART;TZID=Europe/Berlin:20180621T183000
DTEND;TZID=Europe/Berlin:20180621T193000
DTSTAMP:20260423T235819
CREATED:20180613T090523Z
LAST-MODIFIED:20180613T092908Z
UID:10005385-1529605800-1529609400@indian-balance.at
SUMMARY:Wochenkurs IB sportiv
DESCRIPTION:Dieser Wochenkurs eignet sich besonders für sportlich ambitionierte TeilnehmerInnen!\nIndian Balance ® ist ein ganzheitliches Training mit indianischen Wurzeln. Es stellt eine Kombination aus fließenden Bewegungen\, Muskelkontraktionen und bewusster Atmung dar. \nDas Training mit Indian-Balance® setzt innere Energie frei\, schärft die Körperwahrnehmung\, schult die Beweglichkeit\, strafft die Muskeln\, verbessert die Koordination und kräftigt Rücken\, Bauch\, Beine und Po. Gleichzeitig wir der Geist regeneriert\, Stress wird abgebaut und Entspannung verbessert. \nDurch eigens komponierte Indian-Balance® Musik wird eine intensive Verbindung zu den einzelnen Übungen hergestellt und der Kopf wird dabei frei. \n\n 
URL:https://indian-balance.at/event/wochenkurs-ib-sportiv/2018-06-21/
LOCATION:Turnsaal KG Weinitzen\, Niederschöcklstraße 44\, Weinitzen\, Steiermark\, 8044\, Österreich
CATEGORIES:Instructor,Kurs
ATTACH;FMTTYPE=image/jpeg:https://indian-balance.at/wp-content/uploads/2018/06/Susi-NitaShem-für-Homepage-1.jpg
ORGANIZER;CN="Susanne Renner-Hinteregger":MAILTO:Shinteregger@gmx.net
GEO:47.1419919;15.4974948
X-APPLE-STRUCTURED-LOCATION;VALUE=URI;X-ADDRESS=Turnsaal KG Weinitzen Niederschöcklstraße 44 Weinitzen Steiermark 8044 Österreich;X-APPLE-RADIUS=500;X-TITLE=Niederschöcklstraße 44:geo:15.4974948,47.1419919
END:VEVENT
BEGIN:VEVENT
DTSTART;TZID=Europe/Berlin:20180614T183000
DTEND;TZID=Europe/Berlin:20180614T193000
DTSTAMP:20260423T235819
CREATED:20180613T090523Z
LAST-MODIFIED:20180613T092908Z
UID:10005384-1529001000-1529004600@indian-balance.at
SUMMARY:Wochenkurs IB sportiv
DESCRIPTION:Dieser Wochenkurs eignet sich besonders für sportlich ambitionierte TeilnehmerInnen!\nIndian Balance ® ist ein ganzheitliches Training mit indianischen Wurzeln. Es stellt eine Kombination aus fließenden Bewegungen\, Muskelkontraktionen und bewusster Atmung dar. \nDas Training mit Indian-Balance® setzt innere Energie frei\, schärft die Körperwahrnehmung\, schult die Beweglichkeit\, strafft die Muskeln\, verbessert die Koordination und kräftigt Rücken\, Bauch\, Beine und Po. Gleichzeitig wir der Geist regeneriert\, Stress wird abgebaut und Entspannung verbessert. \nDurch eigens komponierte Indian-Balance® Musik wird eine intensive Verbindung zu den einzelnen Übungen hergestellt und der Kopf wird dabei frei. \n\n 
URL:https://indian-balance.at/event/wochenkurs-ib-sportiv/2018-06-14/
LOCATION:Turnsaal KG Weinitzen\, Niederschöcklstraße 44\, Weinitzen\, Steiermark\, 8044\, Österreich
CATEGORIES:Instructor,Kurs
ATTACH;FMTTYPE=image/jpeg:https://indian-balance.at/wp-content/uploads/2018/06/Susi-NitaShem-für-Homepage-1.jpg
ORGANIZER;CN="Susanne Renner-Hinteregger":MAILTO:Shinteregger@gmx.net
GEO:47.1419919;15.4974948
X-APPLE-STRUCTURED-LOCATION;VALUE=URI;X-ADDRESS=Turnsaal KG Weinitzen Niederschöcklstraße 44 Weinitzen Steiermark 8044 Österreich;X-APPLE-RADIUS=500;X-TITLE=Niederschöcklstraße 44:geo:15.4974948,47.1419919
END:VEVENT
BEGIN:VEVENT
DTSTART;TZID=Europe/Berlin:20180607T183000
DTEND;TZID=Europe/Berlin:20180607T193000
DTSTAMP:20260423T235819
CREATED:20180613T090523Z
LAST-MODIFIED:20180613T092908Z
UID:10005383-1528396200-1528399800@indian-balance.at
SUMMARY:Wochenkurs IB sportiv
DESCRIPTION:Dieser Wochenkurs eignet sich besonders für sportlich ambitionierte TeilnehmerInnen!\nIndian Balance ® ist ein ganzheitliches Training mit indianischen Wurzeln. Es stellt eine Kombination aus fließenden Bewegungen\, Muskelkontraktionen und bewusster Atmung dar. \nDas Training mit Indian-Balance® setzt innere Energie frei\, schärft die Körperwahrnehmung\, schult die Beweglichkeit\, strafft die Muskeln\, verbessert die Koordination und kräftigt Rücken\, Bauch\, Beine und Po. Gleichzeitig wir der Geist regeneriert\, Stress wird abgebaut und Entspannung verbessert. \nDurch eigens komponierte Indian-Balance® Musik wird eine intensive Verbindung zu den einzelnen Übungen hergestellt und der Kopf wird dabei frei. \n\n 
URL:https://indian-balance.at/event/wochenkurs-ib-sportiv/2018-06-07/
LOCATION:Turnsaal KG Weinitzen\, Niederschöcklstraße 44\, Weinitzen\, Steiermark\, 8044\, Österreich
CATEGORIES:Instructor,Kurs
ATTACH;FMTTYPE=image/jpeg:https://indian-balance.at/wp-content/uploads/2018/06/Susi-NitaShem-für-Homepage-1.jpg
ORGANIZER;CN="Susanne Renner-Hinteregger":MAILTO:Shinteregger@gmx.net
GEO:47.1419919;15.4974948
X-APPLE-STRUCTURED-LOCATION;VALUE=URI;X-ADDRESS=Turnsaal KG Weinitzen Niederschöcklstraße 44 Weinitzen Steiermark 8044 Österreich;X-APPLE-RADIUS=500;X-TITLE=Niederschöcklstraße 44:geo:15.4974948,47.1419919
END:VEVENT
END:VCALENDAR