BEGIN:VCALENDAR
VERSION:2.0
PRODID:-//Bewegen &amp; Beleben - ECPv6.15.20//NONSGML v1.0//EN
CALSCALE:GREGORIAN
METHOD:PUBLISH
X-WR-CALNAME:Bewegen &amp; Beleben
X-ORIGINAL-URL:https://indian-balance.at
X-WR-CALDESC:Veranstaltungen für Bewegen &amp; Beleben
REFRESH-INTERVAL;VALUE=DURATION:PT1H
X-Robots-Tag:noindex
X-PUBLISHED-TTL:PT1H
BEGIN:VTIMEZONE
TZID:Europe/Berlin
BEGIN:DAYLIGHT
TZOFFSETFROM:+0100
TZOFFSETTO:+0200
TZNAME:CEST
DTSTART:20170326T010000
END:DAYLIGHT
BEGIN:STANDARD
TZOFFSETFROM:+0200
TZOFFSETTO:+0100
TZNAME:CET
DTSTART:20171029T010000
END:STANDARD
BEGIN:DAYLIGHT
TZOFFSETFROM:+0100
TZOFFSETTO:+0200
TZNAME:CEST
DTSTART:20180325T010000
END:DAYLIGHT
BEGIN:STANDARD
TZOFFSETFROM:+0200
TZOFFSETTO:+0100
TZNAME:CET
DTSTART:20181028T010000
END:STANDARD
BEGIN:DAYLIGHT
TZOFFSETFROM:+0100
TZOFFSETTO:+0200
TZNAME:CEST
DTSTART:20190331T010000
END:DAYLIGHT
BEGIN:STANDARD
TZOFFSETFROM:+0200
TZOFFSETTO:+0100
TZNAME:CET
DTSTART:20191027T010000
END:STANDARD
END:VTIMEZONE
BEGIN:VEVENT
DTSTART;TZID=Europe/Berlin:20181009T163000
DTEND;TZID=Europe/Berlin:20181009T170000
DTSTAMP:20260423T222229
CREATED:20180119T211832Z
LAST-MODIFIED:20181115T202411Z
UID:10005282-1539102600-1539104400@indian-balance.at
SUMMARY:Wochenkurs Aqua-Indian Balance im Auster Wellnessbad
DESCRIPTION:Aqua-Indian Balance®\nden Körper bewegen\, während die Seele ausruht!\nErleben und genießen Sie diese neue Art der achtsamen Bewegung im wohltemperierten Element Wasser mit all seinen positiven\, natürlichen\, physikalischen Eigenschaften.  \nAqua-Indian Balance passt sich den individuellen Möglichkeiten des einzelnen an und kann von allen Altersgruppen und Konditionstypen ausgeführt werden. Es bietet eine Vielzahl von Variationen und ist auch für Einsteiger leicht erlernbar.\n \nWeitere Informationen und Preise finden Sie hier.
URL:https://indian-balance.at/event/aqua-indian-balance-im-auster-wellnessbad/2018-10-09/
LOCATION:Auster Wellness Bad\, Janzgasse 21\, Graz\, Steiermark\, 8020\, Österreich
CATEGORIES:Aqua Kurs,Kurs
ATTACH;FMTTYPE=image/gif:https://indian-balance.at/wp-content/uploads/2018/03/DSC7539-ANIMATION.gif
ORGANIZER;CN="Barbara Lechner":MAILTO:office@profit4u.at
GEO:47.0727923;15.4009966
X-APPLE-STRUCTURED-LOCATION;VALUE=URI;X-ADDRESS=Auster Wellness Bad Janzgasse 21 Graz Steiermark 8020 Österreich;X-APPLE-RADIUS=500;X-TITLE=Janzgasse 21:geo:15.4009966,47.0727923
END:VEVENT
BEGIN:VEVENT
DTSTART;TZID=Europe/Berlin:20181005T111500
DTEND;TZID=Europe/Berlin:20181005T114500
DTSTAMP:20260423T222229
CREATED:20221214T211905Z
LAST-MODIFIED:20221214T211905Z
UID:10005293-1538738100-1538739900@indian-balance.at
SUMMARY:Wochenkurs Aqua-Indian Balance im Auster Wellnessbad
DESCRIPTION:Aqua-Indian Balance®\nden Körper bewegen\, während die Seele ausruht!\nErleben und genießen Sie diese neue Art der achtsamen Bewegung im wohltemperierten Element Wasser mit all seinen positiven\, natürlichen\, physikalischen Eigenschaften.  \nAqua-Indian Balance passt sich den individuellen Möglichkeiten des einzelnen an und kann von allen Altersgruppen und Konditionstypen ausgeführt werden. Es bietet eine Vielzahl von Variationen und ist auch für Einsteiger leicht erlernbar.\n \nWeitere Informationen und Preise finden Sie hier.
URL:https://indian-balance.at/event/aqua-indian-balance-im-auster-wellnessbad/2018-10-05/
LOCATION:Auster Wellness Bad\, Janzgasse 21\, Graz\, Steiermark\, 8020\, Österreich
CATEGORIES:Aqua Kurs,Kurs
ATTACH;FMTTYPE=image/gif:https://indian-balance.at/wp-content/uploads/2018/03/DSC7539-ANIMATION.gif
ORGANIZER;CN="Barbara Lechner":MAILTO:office@profit4u.at
GEO:47.0727923;15.4009966
X-APPLE-STRUCTURED-LOCATION;VALUE=URI;X-ADDRESS=Auster Wellness Bad Janzgasse 21 Graz Steiermark 8020 Österreich;X-APPLE-RADIUS=500;X-TITLE=Janzgasse 21:geo:15.4009966,47.0727923
END:VEVENT
BEGIN:VEVENT
DTSTART;TZID=Europe/Berlin:20181002T163000
DTEND;TZID=Europe/Berlin:20181002T170000
DTSTAMP:20260423T222229
CREATED:20180119T211832Z
LAST-MODIFIED:20181115T202411Z
UID:10005281-1538497800-1538499600@indian-balance.at
SUMMARY:Wochenkurs Aqua-Indian Balance im Auster Wellnessbad
DESCRIPTION:Aqua-Indian Balance®\nden Körper bewegen\, während die Seele ausruht!\nErleben und genießen Sie diese neue Art der achtsamen Bewegung im wohltemperierten Element Wasser mit all seinen positiven\, natürlichen\, physikalischen Eigenschaften.  \nAqua-Indian Balance passt sich den individuellen Möglichkeiten des einzelnen an und kann von allen Altersgruppen und Konditionstypen ausgeführt werden. Es bietet eine Vielzahl von Variationen und ist auch für Einsteiger leicht erlernbar.\n \nWeitere Informationen und Preise finden Sie hier.
URL:https://indian-balance.at/event/aqua-indian-balance-im-auster-wellnessbad/2018-10-02/
LOCATION:Auster Wellness Bad\, Janzgasse 21\, Graz\, Steiermark\, 8020\, Österreich
CATEGORIES:Aqua Kurs,Kurs
ATTACH;FMTTYPE=image/gif:https://indian-balance.at/wp-content/uploads/2018/03/DSC7539-ANIMATION.gif
ORGANIZER;CN="Barbara Lechner":MAILTO:office@profit4u.at
GEO:47.0727923;15.4009966
X-APPLE-STRUCTURED-LOCATION;VALUE=URI;X-ADDRESS=Auster Wellness Bad Janzgasse 21 Graz Steiermark 8020 Österreich;X-APPLE-RADIUS=500;X-TITLE=Janzgasse 21:geo:15.4009966,47.0727923
END:VEVENT
END:VCALENDAR