BEGIN:VCALENDAR
VERSION:2.0
PRODID:-//Bewegen &amp; Beleben - ECPv6.15.20//NONSGML v1.0//EN
CALSCALE:GREGORIAN
METHOD:PUBLISH
X-ORIGINAL-URL:https://indian-balance.at
X-WR-CALDESC:Veranstaltungen für Bewegen &amp; Beleben
REFRESH-INTERVAL;VALUE=DURATION:PT1H
X-Robots-Tag:noindex
X-PUBLISHED-TTL:PT1H
BEGIN:VTIMEZONE
TZID:Europe/Berlin
BEGIN:DAYLIGHT
TZOFFSETFROM:+0100
TZOFFSETTO:+0200
TZNAME:CEST
DTSTART:20170326T010000
END:DAYLIGHT
BEGIN:STANDARD
TZOFFSETFROM:+0200
TZOFFSETTO:+0100
TZNAME:CET
DTSTART:20171029T010000
END:STANDARD
BEGIN:DAYLIGHT
TZOFFSETFROM:+0100
TZOFFSETTO:+0200
TZNAME:CEST
DTSTART:20180325T010000
END:DAYLIGHT
BEGIN:STANDARD
TZOFFSETFROM:+0200
TZOFFSETTO:+0100
TZNAME:CET
DTSTART:20181028T010000
END:STANDARD
BEGIN:DAYLIGHT
TZOFFSETFROM:+0100
TZOFFSETTO:+0200
TZNAME:CEST
DTSTART:20190331T010000
END:DAYLIGHT
BEGIN:STANDARD
TZOFFSETFROM:+0200
TZOFFSETTO:+0100
TZNAME:CET
DTSTART:20191027T010000
END:STANDARD
BEGIN:DAYLIGHT
TZOFFSETFROM:+0100
TZOFFSETTO:+0200
TZNAME:CEST
DTSTART:20200329T010000
END:DAYLIGHT
BEGIN:STANDARD
TZOFFSETFROM:+0200
TZOFFSETTO:+0100
TZNAME:CET
DTSTART:20201025T010000
END:STANDARD
END:VTIMEZONE
BEGIN:VEVENT
DTSTART;VALUE=DATE:20190517
DTEND;VALUE=DATE:20190520
DTSTAMP:20260423T222145
CREATED:20190102T182607Z
LAST-MODIFIED:20190102T182607Z
UID:10005845-1558051200-1558310399@indian-balance.at
SUMMARY:3. INDIAN BALANCE Wochenende
DESCRIPTION:Tauchen wir gemeinsam\, im Wonnemonat Mai\, in den Spirit von INDIAN BALANCE ein und begeben wir uns auf eine Reise hin zu unserer Einzigartigkeit\, Lebendigkeit und Leichtigkeit .\nDas Wochenende findet wieder in der Liebnitzmühle statt\, die eingebettet in die anmutende Landschaft des Thayatales\, im nördlichen Waldviertel liegt. Das sanfte Rauschen des Waldes und das Plätschern der Thaya runden die ruhige und entspannende Atmosphäre ab. In- und Outdoor\,  befinden wir uns an einem Tankplatz für Körper\, Geist und Seele. \nAnmeldung und nähere Infos zum Programm bekommst Du unter office@alisanta.at oder ruf mich an unter 0676/639 46 34. \n„Den Körper bewegen\, während die Seele ausruht“ Bewusstheit statt Perfektion – in der inneren Stille hört jede Bewegung des Denkens auf\, und das Herz beginnt zu sprechen!\nIch freu mich auf Dich! Hantaywee Shima Aloha
URL:https://indian-balance.at/event/3-indian-balance-wochenende/
LOCATION:Liebnitzmühle\, Liebnitz 38\, Raabs/Thaya\, 3820\, Österreich
CATEGORIES:Instructor
ATTACH;FMTTYPE=image/jpeg:https://indian-balance.at/wp-content/uploads/2019/01/20181013_150342-e1546453547808.jpg
ORGANIZER;CN="Alexandra Kubica":MAILTO:office@alisanta.at
GEO:48.8530313;15.4549374
X-APPLE-STRUCTURED-LOCATION;VALUE=URI;X-ADDRESS=Liebnitzmühle Liebnitz 38 Raabs/Thaya 3820 Österreich;X-APPLE-RADIUS=500;X-TITLE=Liebnitz 38:geo:15.4549374,48.8530313
END:VEVENT
BEGIN:VEVENT
DTSTART;TZID=Europe/Berlin:20181012T170000
DTEND;TZID=Europe/Berlin:20181014T110000
DTSTAMP:20260423T222145
CREATED:20180807T092111Z
LAST-MODIFIED:20180904T111131Z
UID:10005656-1539363600-1539514800@indian-balance.at
SUMMARY:INDIAN BALANCE Wochenende
DESCRIPTION:Erlebe an diesem Wochenende den Spirit und Rituals für den Herbst von INDIAN BALANCE. Es ist die Jahreszeit der reifen Früchte\, der Ernte und Fülle. Begib Dich mit mir auf eine Reise hin zu Dir. Schöpfe aus Deiner Fülle\, ernte Deine reifen Früchte des Jahres und säen wir gemeinsam Samen\, damit Neues wachsen und gedeihen kann. Genieße eine Auszeit vom Alltag und kehr gestärkt und voll Leichtigkeit und Schöpferkraft in Dein Leben zurück. \nDas Wochenende findet in der Liebnitzmühle statt\, die eingebettet in die anmutende Landschaft des Thayatales\, im nördlichen Waldviertel liegt. Das sanfte Rauschen des Waldes und das Plätschern der Thaya runden die ruhige und entspannende Atmosphäre ab. Es gibt ihn – den stärksten Energieplatz Europas! Auf der Hotelanlage befindet sich die EnergieWELT SIRIUS. Einem Tankplatz für Körper und Seele. \n1 Platz ist noch frei!\nAnmeldung und nähere Infos zum Programm bekommst Du unter office@alisanta.at\noder ruf mich an unter 0676/639 46 34. \n„Den Körper bewegen\, während die Seele ausruht“ Bewusstheit statt Perfektion – in der inneren Stille hört jede Bewegung des Denkens auf\, und das Herz beginnt zu sprechen! \nIch freu mich auf Dich! Hantaywee Shima Aloha
URL:https://indian-balance.at/event/indian-balance-im-ikuna-naturresort/
LOCATION:Liebnitzmühle\, Liebnitz 38\, Raabs/Thaya\, 3820\, Österreich
ATTACH;FMTTYPE=image/jpeg:https://indian-balance.at/wp-content/uploads/2018/08/thumb_17_d1846a7ed7af987b464404c07c113cf9.jpg
ORGANIZER;CN="Alexandra Kubica":MAILTO:office@alisanta.at
GEO:48.8530313;15.4549374
X-APPLE-STRUCTURED-LOCATION;VALUE=URI;X-ADDRESS=Liebnitzmühle Liebnitz 38 Raabs/Thaya 3820 Österreich;X-APPLE-RADIUS=500;X-TITLE=Liebnitz 38:geo:15.4549374,48.8530313
END:VEVENT
END:VCALENDAR