BEGIN:VCALENDAR
VERSION:2.0
PRODID:-//Bewegen &amp; Beleben - ECPv6.15.20//NONSGML v1.0//EN
CALSCALE:GREGORIAN
METHOD:PUBLISH
X-WR-CALNAME:Bewegen &amp; Beleben
X-ORIGINAL-URL:https://indian-balance.at
X-WR-CALDESC:Veranstaltungen für Bewegen &amp; Beleben
REFRESH-INTERVAL;VALUE=DURATION:PT1H
X-Robots-Tag:noindex
X-PUBLISHED-TTL:PT1H
BEGIN:VTIMEZONE
TZID:Europe/Berlin
BEGIN:DAYLIGHT
TZOFFSETFROM:+0100
TZOFFSETTO:+0200
TZNAME:CEST
DTSTART:20170326T010000
END:DAYLIGHT
BEGIN:STANDARD
TZOFFSETFROM:+0200
TZOFFSETTO:+0100
TZNAME:CET
DTSTART:20171029T010000
END:STANDARD
BEGIN:DAYLIGHT
TZOFFSETFROM:+0100
TZOFFSETTO:+0200
TZNAME:CEST
DTSTART:20180325T010000
END:DAYLIGHT
BEGIN:STANDARD
TZOFFSETFROM:+0200
TZOFFSETTO:+0100
TZNAME:CET
DTSTART:20181028T010000
END:STANDARD
BEGIN:DAYLIGHT
TZOFFSETFROM:+0100
TZOFFSETTO:+0200
TZNAME:CEST
DTSTART:20190331T010000
END:DAYLIGHT
BEGIN:STANDARD
TZOFFSETFROM:+0200
TZOFFSETTO:+0100
TZNAME:CET
DTSTART:20191027T010000
END:STANDARD
END:VTIMEZONE
BEGIN:VEVENT
DTSTART;TZID=Europe/Berlin:20180703T073000
DTEND;TZID=Europe/Berlin:20180703T083000
DTSTAMP:20260424T061950
CREATED:20180528T173242Z
LAST-MODIFIED:20180528T173242Z
UID:10005382-1530603000-1530606600@indian-balance.at
SUMMARY:Wochenkurs Indian Balance Männer
DESCRIPTION:Keine Kurs Beschreibung vorhanden!
URL:https://indian-balance.at/event/wochenkurs-indian-balance-maenner/2018-07-03/
LOCATION:Praxis aktivlebenlernen\, Linzerstraße 10/1\, Rohr im Kremstal\, Oberösterreich\, 4532\, Österreich
CATEGORIES:Instructor,Kurs
ORGANIZER;CN="Bettina Schneider":MAILTO:office@aktivlebenlernen.at
GEO:48.0653363;14.1918537
X-APPLE-STRUCTURED-LOCATION;VALUE=URI;X-ADDRESS=Praxis aktivlebenlernen Linzerstraße 10/1 Rohr im Kremstal Oberösterreich 4532 Österreich;X-APPLE-RADIUS=500;X-TITLE=Linzerstraße 10/1:geo:14.1918537,48.0653363
END:VEVENT
BEGIN:VEVENT
DTSTART;TZID=Europe/Berlin:20180626T073000
DTEND;TZID=Europe/Berlin:20180626T083000
DTSTAMP:20260424T061950
CREATED:20180528T173242Z
LAST-MODIFIED:20180528T173242Z
UID:10005381-1529998200-1530001800@indian-balance.at
SUMMARY:Wochenkurs Indian Balance Männer
DESCRIPTION:Keine Kurs Beschreibung vorhanden!
URL:https://indian-balance.at/event/wochenkurs-indian-balance-maenner/2018-06-26/
LOCATION:Praxis aktivlebenlernen\, Linzerstraße 10/1\, Rohr im Kremstal\, Oberösterreich\, 4532\, Österreich
CATEGORIES:Instructor,Kurs
ORGANIZER;CN="Bettina Schneider":MAILTO:office@aktivlebenlernen.at
GEO:48.0653363;14.1918537
X-APPLE-STRUCTURED-LOCATION;VALUE=URI;X-ADDRESS=Praxis aktivlebenlernen Linzerstraße 10/1 Rohr im Kremstal Oberösterreich 4532 Österreich;X-APPLE-RADIUS=500;X-TITLE=Linzerstraße 10/1:geo:14.1918537,48.0653363
END:VEVENT
BEGIN:VEVENT
DTSTART;TZID=Europe/Berlin:20180619T073000
DTEND;TZID=Europe/Berlin:20180619T083000
DTSTAMP:20260424T061950
CREATED:20180528T173242Z
LAST-MODIFIED:20180528T173242Z
UID:10005380-1529393400-1529397000@indian-balance.at
SUMMARY:Wochenkurs Indian Balance Männer
DESCRIPTION:Keine Kurs Beschreibung vorhanden!
URL:https://indian-balance.at/event/wochenkurs-indian-balance-maenner/2018-06-19/
LOCATION:Praxis aktivlebenlernen\, Linzerstraße 10/1\, Rohr im Kremstal\, Oberösterreich\, 4532\, Österreich
CATEGORIES:Instructor,Kurs
ORGANIZER;CN="Bettina Schneider":MAILTO:office@aktivlebenlernen.at
GEO:48.0653363;14.1918537
X-APPLE-STRUCTURED-LOCATION;VALUE=URI;X-ADDRESS=Praxis aktivlebenlernen Linzerstraße 10/1 Rohr im Kremstal Oberösterreich 4532 Österreich;X-APPLE-RADIUS=500;X-TITLE=Linzerstraße 10/1:geo:14.1918537,48.0653363
END:VEVENT
BEGIN:VEVENT
DTSTART;TZID=Europe/Berlin:20180612T073000
DTEND;TZID=Europe/Berlin:20180612T083000
DTSTAMP:20260424T061950
CREATED:20180528T173242Z
LAST-MODIFIED:20180528T173242Z
UID:10005379-1528788600-1528792200@indian-balance.at
SUMMARY:Wochenkurs Indian Balance Männer
DESCRIPTION:Keine Kurs Beschreibung vorhanden!
URL:https://indian-balance.at/event/wochenkurs-indian-balance-maenner/2018-06-12/
LOCATION:Praxis aktivlebenlernen\, Linzerstraße 10/1\, Rohr im Kremstal\, Oberösterreich\, 4532\, Österreich
CATEGORIES:Instructor,Kurs
ORGANIZER;CN="Bettina Schneider":MAILTO:office@aktivlebenlernen.at
GEO:48.0653363;14.1918537
X-APPLE-STRUCTURED-LOCATION;VALUE=URI;X-ADDRESS=Praxis aktivlebenlernen Linzerstraße 10/1 Rohr im Kremstal Oberösterreich 4532 Österreich;X-APPLE-RADIUS=500;X-TITLE=Linzerstraße 10/1:geo:14.1918537,48.0653363
END:VEVENT
BEGIN:VEVENT
DTSTART;TZID=Europe/Berlin:20180605T073000
DTEND;TZID=Europe/Berlin:20180605T083000
DTSTAMP:20260424T061950
CREATED:20180528T173242Z
LAST-MODIFIED:20180528T173242Z
UID:10005378-1528183800-1528187400@indian-balance.at
SUMMARY:Wochenkurs Indian Balance Männer
DESCRIPTION:Keine Kurs Beschreibung vorhanden!
URL:https://indian-balance.at/event/wochenkurs-indian-balance-maenner/2018-06-05/
LOCATION:Praxis aktivlebenlernen\, Linzerstraße 10/1\, Rohr im Kremstal\, Oberösterreich\, 4532\, Österreich
CATEGORIES:Instructor,Kurs
ORGANIZER;CN="Bettina Schneider":MAILTO:office@aktivlebenlernen.at
GEO:48.0653363;14.1918537
X-APPLE-STRUCTURED-LOCATION;VALUE=URI;X-ADDRESS=Praxis aktivlebenlernen Linzerstraße 10/1 Rohr im Kremstal Oberösterreich 4532 Österreich;X-APPLE-RADIUS=500;X-TITLE=Linzerstraße 10/1:geo:14.1918537,48.0653363
END:VEVENT
BEGIN:VEVENT
DTSTART;TZID=Europe/Berlin:20180529T073000
DTEND;TZID=Europe/Berlin:20180529T083000
DTSTAMP:20260424T061951
CREATED:20180528T173242Z
LAST-MODIFIED:20180528T173242Z
UID:10005377-1527579000-1527582600@indian-balance.at
SUMMARY:Wochenkurs Indian Balance Männer
DESCRIPTION:Keine Kurs Beschreibung vorhanden!
URL:https://indian-balance.at/event/wochenkurs-indian-balance-maenner/2018-05-29/
LOCATION:Praxis aktivlebenlernen\, Linzerstraße 10/1\, Rohr im Kremstal\, Oberösterreich\, 4532\, Österreich
CATEGORIES:Instructor,Kurs
ORGANIZER;CN="Bettina Schneider":MAILTO:office@aktivlebenlernen.at
GEO:48.0653363;14.1918537
X-APPLE-STRUCTURED-LOCATION;VALUE=URI;X-ADDRESS=Praxis aktivlebenlernen Linzerstraße 10/1 Rohr im Kremstal Oberösterreich 4532 Österreich;X-APPLE-RADIUS=500;X-TITLE=Linzerstraße 10/1:geo:14.1918537,48.0653363
END:VEVENT
BEGIN:VEVENT
DTSTART;TZID=Europe/Berlin:20180522T073000
DTEND;TZID=Europe/Berlin:20180522T083000
DTSTAMP:20260424T061951
CREATED:20180528T173242Z
LAST-MODIFIED:20180528T173242Z
UID:10005376-1526974200-1526977800@indian-balance.at
SUMMARY:Wochenkurs Indian Balance Männer
DESCRIPTION:Keine Kurs Beschreibung vorhanden!
URL:https://indian-balance.at/event/wochenkurs-indian-balance-maenner/2018-05-22/
LOCATION:Praxis aktivlebenlernen\, Linzerstraße 10/1\, Rohr im Kremstal\, Oberösterreich\, 4532\, Österreich
CATEGORIES:Instructor,Kurs
ORGANIZER;CN="Bettina Schneider":MAILTO:office@aktivlebenlernen.at
GEO:48.0653363;14.1918537
X-APPLE-STRUCTURED-LOCATION;VALUE=URI;X-ADDRESS=Praxis aktivlebenlernen Linzerstraße 10/1 Rohr im Kremstal Oberösterreich 4532 Österreich;X-APPLE-RADIUS=500;X-TITLE=Linzerstraße 10/1:geo:14.1918537,48.0653363
END:VEVENT
BEGIN:VEVENT
DTSTART;TZID=Europe/Berlin:20180515T073000
DTEND;TZID=Europe/Berlin:20180515T083000
DTSTAMP:20260424T061951
CREATED:20180528T173242Z
LAST-MODIFIED:20180528T173242Z
UID:10005375-1526369400-1526373000@indian-balance.at
SUMMARY:Wochenkurs Indian Balance Männer
DESCRIPTION:Keine Kurs Beschreibung vorhanden!
URL:https://indian-balance.at/event/wochenkurs-indian-balance-maenner/2018-05-15/
LOCATION:Praxis aktivlebenlernen\, Linzerstraße 10/1\, Rohr im Kremstal\, Oberösterreich\, 4532\, Österreich
CATEGORIES:Instructor,Kurs
ORGANIZER;CN="Bettina Schneider":MAILTO:office@aktivlebenlernen.at
GEO:48.0653363;14.1918537
X-APPLE-STRUCTURED-LOCATION;VALUE=URI;X-ADDRESS=Praxis aktivlebenlernen Linzerstraße 10/1 Rohr im Kremstal Oberösterreich 4532 Österreich;X-APPLE-RADIUS=500;X-TITLE=Linzerstraße 10/1:geo:14.1918537,48.0653363
END:VEVENT
BEGIN:VEVENT
DTSTART;TZID=Europe/Berlin:20180508T073000
DTEND;TZID=Europe/Berlin:20180508T083000
DTSTAMP:20260424T061951
CREATED:20180528T173242Z
LAST-MODIFIED:20180528T173242Z
UID:10005374-1525764600-1525768200@indian-balance.at
SUMMARY:Wochenkurs Indian Balance Männer
DESCRIPTION:Keine Kurs Beschreibung vorhanden!
URL:https://indian-balance.at/event/wochenkurs-indian-balance-maenner/2018-05-08/
LOCATION:Praxis aktivlebenlernen\, Linzerstraße 10/1\, Rohr im Kremstal\, Oberösterreich\, 4532\, Österreich
CATEGORIES:Instructor,Kurs
ORGANIZER;CN="Bettina Schneider":MAILTO:office@aktivlebenlernen.at
GEO:48.0653363;14.1918537
X-APPLE-STRUCTURED-LOCATION;VALUE=URI;X-ADDRESS=Praxis aktivlebenlernen Linzerstraße 10/1 Rohr im Kremstal Oberösterreich 4532 Österreich;X-APPLE-RADIUS=500;X-TITLE=Linzerstraße 10/1:geo:14.1918537,48.0653363
END:VEVENT
BEGIN:VEVENT
DTSTART;TZID=Europe/Berlin:20180501T073000
DTEND;TZID=Europe/Berlin:20180501T083000
DTSTAMP:20260424T061951
CREATED:20180528T173242Z
LAST-MODIFIED:20180528T173242Z
UID:10005373-1525159800-1525163400@indian-balance.at
SUMMARY:Wochenkurs Indian Balance Männer
DESCRIPTION:Keine Kurs Beschreibung vorhanden!
URL:https://indian-balance.at/event/wochenkurs-indian-balance-maenner/2018-05-01/
LOCATION:Praxis aktivlebenlernen\, Linzerstraße 10/1\, Rohr im Kremstal\, Oberösterreich\, 4532\, Österreich
CATEGORIES:Instructor,Kurs
ORGANIZER;CN="Bettina Schneider":MAILTO:office@aktivlebenlernen.at
GEO:48.0653363;14.1918537
X-APPLE-STRUCTURED-LOCATION;VALUE=URI;X-ADDRESS=Praxis aktivlebenlernen Linzerstraße 10/1 Rohr im Kremstal Oberösterreich 4532 Österreich;X-APPLE-RADIUS=500;X-TITLE=Linzerstraße 10/1:geo:14.1918537,48.0653363
END:VEVENT
BEGIN:VEVENT
DTSTART;TZID=Europe/Berlin:20180424T073000
DTEND;TZID=Europe/Berlin:20180424T083000
DTSTAMP:20260424T061951
CREATED:20180528T173242Z
LAST-MODIFIED:20180528T173242Z
UID:10005372-1524555000-1524558600@indian-balance.at
SUMMARY:Wochenkurs Indian Balance Männer
DESCRIPTION:Keine Kurs Beschreibung vorhanden!
URL:https://indian-balance.at/event/wochenkurs-indian-balance-maenner/2018-04-24/
LOCATION:Praxis aktivlebenlernen\, Linzerstraße 10/1\, Rohr im Kremstal\, Oberösterreich\, 4532\, Österreich
CATEGORIES:Instructor,Kurs
ORGANIZER;CN="Bettina Schneider":MAILTO:office@aktivlebenlernen.at
GEO:48.0653363;14.1918537
X-APPLE-STRUCTURED-LOCATION;VALUE=URI;X-ADDRESS=Praxis aktivlebenlernen Linzerstraße 10/1 Rohr im Kremstal Oberösterreich 4532 Österreich;X-APPLE-RADIUS=500;X-TITLE=Linzerstraße 10/1:geo:14.1918537,48.0653363
END:VEVENT
BEGIN:VEVENT
DTSTART;TZID=Europe/Berlin:20180417T073000
DTEND;TZID=Europe/Berlin:20180417T083000
DTSTAMP:20260424T061951
CREATED:20180528T173242Z
LAST-MODIFIED:20180528T173242Z
UID:10005371-1523950200-1523953800@indian-balance.at
SUMMARY:Wochenkurs Indian Balance Männer
DESCRIPTION:Keine Kurs Beschreibung vorhanden!
URL:https://indian-balance.at/event/wochenkurs-indian-balance-maenner/2018-04-17/
LOCATION:Praxis aktivlebenlernen\, Linzerstraße 10/1\, Rohr im Kremstal\, Oberösterreich\, 4532\, Österreich
CATEGORIES:Instructor,Kurs
ORGANIZER;CN="Bettina Schneider":MAILTO:office@aktivlebenlernen.at
GEO:48.0653363;14.1918537
X-APPLE-STRUCTURED-LOCATION;VALUE=URI;X-ADDRESS=Praxis aktivlebenlernen Linzerstraße 10/1 Rohr im Kremstal Oberösterreich 4532 Österreich;X-APPLE-RADIUS=500;X-TITLE=Linzerstraße 10/1:geo:14.1918537,48.0653363
END:VEVENT
BEGIN:VEVENT
DTSTART;TZID=Europe/Berlin:20180410T073000
DTEND;TZID=Europe/Berlin:20180410T083000
DTSTAMP:20260424T061951
CREATED:20180528T173242Z
LAST-MODIFIED:20180528T173242Z
UID:10005370-1523345400-1523349000@indian-balance.at
SUMMARY:Wochenkurs Indian Balance Männer
DESCRIPTION:Keine Kurs Beschreibung vorhanden!
URL:https://indian-balance.at/event/wochenkurs-indian-balance-maenner/2018-04-10/
LOCATION:Praxis aktivlebenlernen\, Linzerstraße 10/1\, Rohr im Kremstal\, Oberösterreich\, 4532\, Österreich
CATEGORIES:Instructor,Kurs
ORGANIZER;CN="Bettina Schneider":MAILTO:office@aktivlebenlernen.at
GEO:48.0653363;14.1918537
X-APPLE-STRUCTURED-LOCATION;VALUE=URI;X-ADDRESS=Praxis aktivlebenlernen Linzerstraße 10/1 Rohr im Kremstal Oberösterreich 4532 Österreich;X-APPLE-RADIUS=500;X-TITLE=Linzerstraße 10/1:geo:14.1918537,48.0653363
END:VEVENT
BEGIN:VEVENT
DTSTART;TZID=Europe/Berlin:20180403T073000
DTEND;TZID=Europe/Berlin:20180403T083000
DTSTAMP:20260424T061951
CREATED:20180528T173242Z
LAST-MODIFIED:20180528T173242Z
UID:10005369-1522740600-1522744200@indian-balance.at
SUMMARY:Wochenkurs Indian Balance Männer
DESCRIPTION:Keine Kurs Beschreibung vorhanden!
URL:https://indian-balance.at/event/wochenkurs-indian-balance-maenner/2018-04-03/
LOCATION:Praxis aktivlebenlernen\, Linzerstraße 10/1\, Rohr im Kremstal\, Oberösterreich\, 4532\, Österreich
CATEGORIES:Instructor,Kurs
ORGANIZER;CN="Bettina Schneider":MAILTO:office@aktivlebenlernen.at
GEO:48.0653363;14.1918537
X-APPLE-STRUCTURED-LOCATION;VALUE=URI;X-ADDRESS=Praxis aktivlebenlernen Linzerstraße 10/1 Rohr im Kremstal Oberösterreich 4532 Österreich;X-APPLE-RADIUS=500;X-TITLE=Linzerstraße 10/1:geo:14.1918537,48.0653363
END:VEVENT
BEGIN:VEVENT
DTSTART;TZID=Europe/Berlin:20180327T073000
DTEND;TZID=Europe/Berlin:20180327T083000
DTSTAMP:20260424T061951
CREATED:20180528T173242Z
LAST-MODIFIED:20180528T173242Z
UID:10005368-1522135800-1522139400@indian-balance.at
SUMMARY:Wochenkurs Indian Balance Männer
DESCRIPTION:Keine Kurs Beschreibung vorhanden!
URL:https://indian-balance.at/event/wochenkurs-indian-balance-maenner/2018-03-27/
LOCATION:Praxis aktivlebenlernen\, Linzerstraße 10/1\, Rohr im Kremstal\, Oberösterreich\, 4532\, Österreich
CATEGORIES:Instructor,Kurs
ORGANIZER;CN="Bettina Schneider":MAILTO:office@aktivlebenlernen.at
GEO:48.0653363;14.1918537
X-APPLE-STRUCTURED-LOCATION;VALUE=URI;X-ADDRESS=Praxis aktivlebenlernen Linzerstraße 10/1 Rohr im Kremstal Oberösterreich 4532 Österreich;X-APPLE-RADIUS=500;X-TITLE=Linzerstraße 10/1:geo:14.1918537,48.0653363
END:VEVENT
BEGIN:VEVENT
DTSTART;TZID=Europe/Berlin:20180320T073000
DTEND;TZID=Europe/Berlin:20180320T083000
DTSTAMP:20260424T061951
CREATED:20180528T173242Z
LAST-MODIFIED:20180528T173242Z
UID:10005367-1521531000-1521534600@indian-balance.at
SUMMARY:Wochenkurs Indian Balance Männer
DESCRIPTION:Keine Kurs Beschreibung vorhanden!
URL:https://indian-balance.at/event/wochenkurs-indian-balance-maenner/2018-03-20/
LOCATION:Praxis aktivlebenlernen\, Linzerstraße 10/1\, Rohr im Kremstal\, Oberösterreich\, 4532\, Österreich
CATEGORIES:Instructor,Kurs
ORGANIZER;CN="Bettina Schneider":MAILTO:office@aktivlebenlernen.at
GEO:48.0653363;14.1918537
X-APPLE-STRUCTURED-LOCATION;VALUE=URI;X-ADDRESS=Praxis aktivlebenlernen Linzerstraße 10/1 Rohr im Kremstal Oberösterreich 4532 Österreich;X-APPLE-RADIUS=500;X-TITLE=Linzerstraße 10/1:geo:14.1918537,48.0653363
END:VEVENT
BEGIN:VEVENT
DTSTART;TZID=Europe/Berlin:20180313T073000
DTEND;TZID=Europe/Berlin:20180313T083000
DTSTAMP:20260424T061951
CREATED:20180528T173242Z
LAST-MODIFIED:20180528T173242Z
UID:10005366-1520926200-1520929800@indian-balance.at
SUMMARY:Wochenkurs Indian Balance Männer
DESCRIPTION:Keine Kurs Beschreibung vorhanden!
URL:https://indian-balance.at/event/wochenkurs-indian-balance-maenner/2018-03-13/
LOCATION:Praxis aktivlebenlernen\, Linzerstraße 10/1\, Rohr im Kremstal\, Oberösterreich\, 4532\, Österreich
CATEGORIES:Instructor,Kurs
ORGANIZER;CN="Bettina Schneider":MAILTO:office@aktivlebenlernen.at
GEO:48.0653363;14.1918537
X-APPLE-STRUCTURED-LOCATION;VALUE=URI;X-ADDRESS=Praxis aktivlebenlernen Linzerstraße 10/1 Rohr im Kremstal Oberösterreich 4532 Österreich;X-APPLE-RADIUS=500;X-TITLE=Linzerstraße 10/1:geo:14.1918537,48.0653363
END:VEVENT
BEGIN:VEVENT
DTSTART;TZID=Europe/Berlin:20180306T073000
DTEND;TZID=Europe/Berlin:20180306T083000
DTSTAMP:20260424T061951
CREATED:20180528T173242Z
LAST-MODIFIED:20180528T173242Z
UID:10005365-1520321400-1520325000@indian-balance.at
SUMMARY:Wochenkurs Indian Balance Männer
DESCRIPTION:Keine Kurs Beschreibung vorhanden!
URL:https://indian-balance.at/event/wochenkurs-indian-balance-maenner/2018-03-06/
LOCATION:Praxis aktivlebenlernen\, Linzerstraße 10/1\, Rohr im Kremstal\, Oberösterreich\, 4532\, Österreich
CATEGORIES:Instructor,Kurs
ORGANIZER;CN="Bettina Schneider":MAILTO:office@aktivlebenlernen.at
GEO:48.0653363;14.1918537
X-APPLE-STRUCTURED-LOCATION;VALUE=URI;X-ADDRESS=Praxis aktivlebenlernen Linzerstraße 10/1 Rohr im Kremstal Oberösterreich 4532 Österreich;X-APPLE-RADIUS=500;X-TITLE=Linzerstraße 10/1:geo:14.1918537,48.0653363
END:VEVENT
BEGIN:VEVENT
DTSTART;TZID=Europe/Berlin:20180227T073000
DTEND;TZID=Europe/Berlin:20180227T083000
DTSTAMP:20260424T061951
CREATED:20180528T173242Z
LAST-MODIFIED:20180528T173242Z
UID:10005364-1519716600-1519720200@indian-balance.at
SUMMARY:Wochenkurs Indian Balance Männer
DESCRIPTION:Keine Kurs Beschreibung vorhanden!
URL:https://indian-balance.at/event/wochenkurs-indian-balance-maenner/2018-02-27/
LOCATION:Praxis aktivlebenlernen\, Linzerstraße 10/1\, Rohr im Kremstal\, Oberösterreich\, 4532\, Österreich
CATEGORIES:Instructor,Kurs
ORGANIZER;CN="Bettina Schneider":MAILTO:office@aktivlebenlernen.at
GEO:48.0653363;14.1918537
X-APPLE-STRUCTURED-LOCATION;VALUE=URI;X-ADDRESS=Praxis aktivlebenlernen Linzerstraße 10/1 Rohr im Kremstal Oberösterreich 4532 Österreich;X-APPLE-RADIUS=500;X-TITLE=Linzerstraße 10/1:geo:14.1918537,48.0653363
END:VEVENT
BEGIN:VEVENT
DTSTART;TZID=Europe/Berlin:20180220T073000
DTEND;TZID=Europe/Berlin:20180220T083000
DTSTAMP:20260424T061951
CREATED:20180528T173242Z
LAST-MODIFIED:20180528T173242Z
UID:10005363-1519111800-1519115400@indian-balance.at
SUMMARY:Wochenkurs Indian Balance Männer
DESCRIPTION:Keine Kurs Beschreibung vorhanden!
URL:https://indian-balance.at/event/wochenkurs-indian-balance-maenner/2018-02-20/
LOCATION:Praxis aktivlebenlernen\, Linzerstraße 10/1\, Rohr im Kremstal\, Oberösterreich\, 4532\, Österreich
CATEGORIES:Instructor,Kurs
ORGANIZER;CN="Bettina Schneider":MAILTO:office@aktivlebenlernen.at
GEO:48.0653363;14.1918537
X-APPLE-STRUCTURED-LOCATION;VALUE=URI;X-ADDRESS=Praxis aktivlebenlernen Linzerstraße 10/1 Rohr im Kremstal Oberösterreich 4532 Österreich;X-APPLE-RADIUS=500;X-TITLE=Linzerstraße 10/1:geo:14.1918537,48.0653363
END:VEVENT
BEGIN:VEVENT
DTSTART;TZID=Europe/Berlin:20180213T073000
DTEND;TZID=Europe/Berlin:20180213T083000
DTSTAMP:20260424T061951
CREATED:20180528T173242Z
LAST-MODIFIED:20180528T173242Z
UID:10005362-1518507000-1518510600@indian-balance.at
SUMMARY:Wochenkurs Indian Balance Männer
DESCRIPTION:Keine Kurs Beschreibung vorhanden!
URL:https://indian-balance.at/event/wochenkurs-indian-balance-maenner/2018-02-13/
LOCATION:Praxis aktivlebenlernen\, Linzerstraße 10/1\, Rohr im Kremstal\, Oberösterreich\, 4532\, Österreich
CATEGORIES:Instructor,Kurs
ORGANIZER;CN="Bettina Schneider":MAILTO:office@aktivlebenlernen.at
GEO:48.0653363;14.1918537
X-APPLE-STRUCTURED-LOCATION;VALUE=URI;X-ADDRESS=Praxis aktivlebenlernen Linzerstraße 10/1 Rohr im Kremstal Oberösterreich 4532 Österreich;X-APPLE-RADIUS=500;X-TITLE=Linzerstraße 10/1:geo:14.1918537,48.0653363
END:VEVENT
BEGIN:VEVENT
DTSTART;TZID=Europe/Berlin:20180206T073000
DTEND;TZID=Europe/Berlin:20180206T083000
DTSTAMP:20260424T061951
CREATED:20180528T173242Z
LAST-MODIFIED:20180528T173242Z
UID:10005361-1517902200-1517905800@indian-balance.at
SUMMARY:Wochenkurs Indian Balance Männer
DESCRIPTION:Keine Kurs Beschreibung vorhanden!
URL:https://indian-balance.at/event/wochenkurs-indian-balance-maenner/2018-02-06/
LOCATION:Praxis aktivlebenlernen\, Linzerstraße 10/1\, Rohr im Kremstal\, Oberösterreich\, 4532\, Österreich
CATEGORIES:Instructor,Kurs
ORGANIZER;CN="Bettina Schneider":MAILTO:office@aktivlebenlernen.at
GEO:48.0653363;14.1918537
X-APPLE-STRUCTURED-LOCATION;VALUE=URI;X-ADDRESS=Praxis aktivlebenlernen Linzerstraße 10/1 Rohr im Kremstal Oberösterreich 4532 Österreich;X-APPLE-RADIUS=500;X-TITLE=Linzerstraße 10/1:geo:14.1918537,48.0653363
END:VEVENT
BEGIN:VEVENT
DTSTART;TZID=Europe/Berlin:20180130T073000
DTEND;TZID=Europe/Berlin:20180130T083000
DTSTAMP:20260424T061951
CREATED:20180528T173242Z
LAST-MODIFIED:20180528T173242Z
UID:10005360-1517297400-1517301000@indian-balance.at
SUMMARY:Wochenkurs Indian Balance Männer
DESCRIPTION:Keine Kurs Beschreibung vorhanden!
URL:https://indian-balance.at/event/wochenkurs-indian-balance-maenner/2018-01-30/
LOCATION:Praxis aktivlebenlernen\, Linzerstraße 10/1\, Rohr im Kremstal\, Oberösterreich\, 4532\, Österreich
CATEGORIES:Instructor,Kurs
ORGANIZER;CN="Bettina Schneider":MAILTO:office@aktivlebenlernen.at
GEO:48.0653363;14.1918537
X-APPLE-STRUCTURED-LOCATION;VALUE=URI;X-ADDRESS=Praxis aktivlebenlernen Linzerstraße 10/1 Rohr im Kremstal Oberösterreich 4532 Österreich;X-APPLE-RADIUS=500;X-TITLE=Linzerstraße 10/1:geo:14.1918537,48.0653363
END:VEVENT
BEGIN:VEVENT
DTSTART;TZID=Europe/Berlin:20180123T073000
DTEND;TZID=Europe/Berlin:20180123T083000
DTSTAMP:20260424T061951
CREATED:20180528T173242Z
LAST-MODIFIED:20180528T173242Z
UID:10005359-1516692600-1516696200@indian-balance.at
SUMMARY:Wochenkurs Indian Balance Männer
DESCRIPTION:Keine Kurs Beschreibung vorhanden!
URL:https://indian-balance.at/event/wochenkurs-indian-balance-maenner/2018-01-23/
LOCATION:Praxis aktivlebenlernen\, Linzerstraße 10/1\, Rohr im Kremstal\, Oberösterreich\, 4532\, Österreich
CATEGORIES:Instructor,Kurs
ORGANIZER;CN="Bettina Schneider":MAILTO:office@aktivlebenlernen.at
GEO:48.0653363;14.1918537
X-APPLE-STRUCTURED-LOCATION;VALUE=URI;X-ADDRESS=Praxis aktivlebenlernen Linzerstraße 10/1 Rohr im Kremstal Oberösterreich 4532 Österreich;X-APPLE-RADIUS=500;X-TITLE=Linzerstraße 10/1:geo:14.1918537,48.0653363
END:VEVENT
END:VCALENDAR