BEGIN:VCALENDAR
VERSION:2.0
PRODID:-//Bewegen &amp; Beleben - ECPv6.15.20//NONSGML v1.0//EN
CALSCALE:GREGORIAN
METHOD:PUBLISH
X-ORIGINAL-URL:https://indian-balance.at
X-WR-CALDESC:Veranstaltungen für Bewegen &amp; Beleben
REFRESH-INTERVAL;VALUE=DURATION:PT1H
X-Robots-Tag:noindex
X-PUBLISHED-TTL:PT1H
BEGIN:VTIMEZONE
TZID:Europe/Vienna
BEGIN:DAYLIGHT
TZOFFSETFROM:+0100
TZOFFSETTO:+0200
TZNAME:CEST
DTSTART:20210328T010000
END:DAYLIGHT
BEGIN:STANDARD
TZOFFSETFROM:+0200
TZOFFSETTO:+0100
TZNAME:CET
DTSTART:20211031T010000
END:STANDARD
BEGIN:DAYLIGHT
TZOFFSETFROM:+0100
TZOFFSETTO:+0200
TZNAME:CEST
DTSTART:20220327T010000
END:DAYLIGHT
BEGIN:STANDARD
TZOFFSETFROM:+0200
TZOFFSETTO:+0100
TZNAME:CET
DTSTART:20221030T010000
END:STANDARD
BEGIN:DAYLIGHT
TZOFFSETFROM:+0100
TZOFFSETTO:+0200
TZNAME:CEST
DTSTART:20230326T010000
END:DAYLIGHT
BEGIN:STANDARD
TZOFFSETFROM:+0200
TZOFFSETTO:+0100
TZNAME:CET
DTSTART:20231029T010000
END:STANDARD
END:VTIMEZONE
BEGIN:VEVENT
DTSTART;TZID=Europe/Vienna:20220829T053000
DTEND;TZID=Europe/Vienna:20220829T070000
DTSTAMP:20260419T141414
CREATED:20220818T065706Z
LAST-MODIFIED:20220818T070622Z
UID:10006052-1661751000-1661756400@indian-balance.at
SUMMARY:Morgenritual am Quellenweg bei Sonnenaufgang 29.8.2022
DESCRIPTION:Ein Geheimtipp sind die St. Radegunder Quellenwege. Mitten durch die Natur vorbei an architektonisch kunstvoll gefasste Quellen\, der Walddusche\, die seit 1830 zu Kurzwecken genutzt wird\, zum Kraftplatz.\nBei Sonnenaufgang begrüßen wir dort mit dem Indian Balance Morgenritual den neuen Tag. \nTreffpunkt 5:30 Uhr Talstation St. Radegund \nDauer ca. 1\,5 Stunden
URL:https://indian-balance.at/event/morgenritual-am-quellenweg-bei-sonnenaufgang-29-8-2022/
LOCATION:Talstation Schöcklseilbahn\, Schöcklstraße 23\,\, St. Radegund bei Graz\, 8061\, Österreich
CATEGORIES:Summer School 2022
ATTACH;FMTTYPE=image/jpeg:https://indian-balance.at/wp-content/uploads/2022/08/IMG_5142-scaled-e1660805777484.jpeg
ORGANIZER;CN="Indian Balance Akademie %C3%96sterreich":MAILTO:info@akademie.indian-balance.at
GEO:47.1858646;15.4856833
X-APPLE-STRUCTURED-LOCATION;VALUE=URI;X-ADDRESS=Talstation Schöcklseilbahn Schöcklstraße 23 St. Radegund bei Graz 8061 Österreich;X-APPLE-RADIUS=500;X-TITLE=Schöcklstraße 23\,:geo:15.4856833,47.1858646
END:VEVENT
END:VCALENDAR